BEGIN:VCALENDAR
VERSION:2.0
PRODID:-//Ajuntament de Prats de Lluçanès - ECPv6.14.2//NONSGML v1.0//EN
CALSCALE:GREGORIAN
METHOD:PUBLISH
X-ORIGINAL-URL:https://historic.pratsdellucanes.cat
X-WR-CALDESC:Esdeveniments per Ajuntament de Prats de Lluçanès
REFRESH-INTERVAL;VALUE=DURATION:PT1H
X-Robots-Tag:noindex
X-PUBLISHED-TTL:PT1H
BEGIN:VTIMEZONE
TZID:Europe/Helsinki
BEGIN:DAYLIGHT
TZOFFSETFROM:+0200
TZOFFSETTO:+0300
TZNAME:EEST
DTSTART:20210328T010000
END:DAYLIGHT
BEGIN:STANDARD
TZOFFSETFROM:+0300
TZOFFSETTO:+0200
TZNAME:EET
DTSTART:20211031T010000
END:STANDARD
END:VTIMEZONE
BEGIN:VTIMEZONE
TZID:Europe/Madrid
BEGIN:DAYLIGHT
TZOFFSETFROM:+0100
TZOFFSETTO:+0200
TZNAME:CEST
DTSTART:20210328T010000
END:DAYLIGHT
BEGIN:STANDARD
TZOFFSETFROM:+0200
TZOFFSETTO:+0100
TZNAME:CET
DTSTART:20211031T010000
END:STANDARD
END:VTIMEZONE
BEGIN:VEVENT
DTSTART;VALUE=DATE:20210723
DTEND;VALUE=DATE:20210726
DTSTAMP:20260426T010915
CREATED:20210716T072737Z
LAST-MODIFIED:20210716T072737Z
UID:45083-1626998400-1627257599@historic.pratsdellucanes.cat
SUMMARY:Fira de Sant Jaume 2021
DESCRIPTION:
URL:https://historic.pratsdellucanes.cat/esdeveniment/fira-de-sant-jaume-2021/
CATEGORIES:Agenda
END:VEVENT
BEGIN:VEVENT
DTSTART;TZID=Europe/Madrid:20210725T080000
DTEND;TZID=Europe/Madrid:20210725T140000
DTSTAMP:20260426T010915
CREATED:20190725T233919Z
LAST-MODIFIED:20191204T153737Z
UID:33089-1627200000-1627221600@historic.pratsdellucanes.cat
SUMMARY:Mercat dominical i comerços oberts fins al migdia
DESCRIPTION:
URL:https://historic.pratsdellucanes.cat/esdeveniment/mercat-dominical-i-comercos-oberts-fins-al-migdia-184/
CATEGORIES:Agenda
END:VEVENT
BEGIN:VEVENT
DTSTART;TZID=Europe/Helsinki:20210725T080000
DTEND;TZID=Europe/Helsinki:20210725T170000
DTSTAMP:20260426T010915
CREATED:20210705T073443Z
LAST-MODIFIED:20210705T073443Z
UID:45002-1627200000-1627232400@historic.pratsdellucanes.cat
SUMMARY:Fira de Sant Jaume
DESCRIPTION:
URL:https://historic.pratsdellucanes.cat/esdeveniment/fira-de-sant-jaume-3/
CATEGORIES:Agenda
END:VEVENT
END:VCALENDAR