BEGIN:VCALENDAR
VERSION:2.0
PRODID:-//Ajuntament de Prats de Lluçanès - ECPv6.14.2//NONSGML v1.0//EN
CALSCALE:GREGORIAN
METHOD:PUBLISH
X-ORIGINAL-URL:https://historic.pratsdellucanes.cat
X-WR-CALDESC:Esdeveniments per Ajuntament de Prats de Lluçanès
REFRESH-INTERVAL;VALUE=DURATION:PT1H
X-Robots-Tag:noindex
X-PUBLISHED-TTL:PT1H
BEGIN:VTIMEZONE
TZID:Europe/Helsinki
BEGIN:DAYLIGHT
TZOFFSETFROM:+0200
TZOFFSETTO:+0300
TZNAME:EEST
DTSTART:20210328T010000
END:DAYLIGHT
BEGIN:STANDARD
TZOFFSETFROM:+0300
TZOFFSETTO:+0200
TZNAME:EET
DTSTART:20211031T010000
END:STANDARD
END:VTIMEZONE
BEGIN:VTIMEZONE
TZID:Europe/Madrid
BEGIN:DAYLIGHT
TZOFFSETFROM:+0100
TZOFFSETTO:+0200
TZNAME:CEST
DTSTART:20210328T010000
END:DAYLIGHT
BEGIN:STANDARD
TZOFFSETFROM:+0200
TZOFFSETTO:+0100
TZNAME:CET
DTSTART:20211031T010000
END:STANDARD
END:VTIMEZONE
BEGIN:VEVENT
DTSTART;TZID=Europe/Helsinki:20211026T080000
DTEND;TZID=Europe/Helsinki:20211026T170000
DTSTAMP:20260425T185745
CREATED:20211015T112745Z
LAST-MODIFIED:20211015T112745Z
UID:45667-1635235200-1635267600@historic.pratsdellucanes.cat
SUMMARY:Visita teatre de Celrà
DESCRIPTION:
URL:https://historic.pratsdellucanes.cat/esdeveniment/visita-teatre-de-celra/
CATEGORIES:Agenda de l'alcalde
END:VEVENT
BEGIN:VEVENT
DTSTART;TZID=Europe/Helsinki:20211026T080000
DTEND;TZID=Europe/Helsinki:20211026T170000
DTSTAMP:20260425T185745
CREATED:20211015T112829Z
LAST-MODIFIED:20211015T112829Z
UID:45669-1635235200-1635267600@historic.pratsdellucanes.cat
SUMMARY:Ple extraordinari de les ordenances municipals
DESCRIPTION:
URL:https://historic.pratsdellucanes.cat/esdeveniment/ple-extraordinari-de-les-ordenances-municipals/
CATEGORIES:Agenda,Agenda de l'alcalde
END:VEVENT
BEGIN:VEVENT
DTSTART;TZID=Europe/Madrid:20211026T200000
DTEND;TZID=Europe/Madrid:20211026T220000
DTSTAMP:20260425T185745
CREATED:20191026T104743Z
LAST-MODIFIED:20191026T104743Z
UID:36374-1635278400-1635285600@historic.pratsdellucanes.cat
SUMMARY:Reunió de govern.
DESCRIPTION:
URL:https://historic.pratsdellucanes.cat/esdeveniment/reunio-de-govern-120/
LOCATION:Ajuntament de Prats de Lluçanès\, Passeig del Lluçanès\, 08513 Prats de Lluçanès\, Barcelona\, España
CATEGORIES:Agenda de l'alcalde
END:VEVENT
END:VCALENDAR