BEGIN:VCALENDAR
VERSION:2.0
PRODID:-//Ajuntament de Prats de Lluçanès - ECPv6.14.2//NONSGML v1.0//EN
CALSCALE:GREGORIAN
METHOD:PUBLISH
X-ORIGINAL-URL:https://historic.pratsdellucanes.cat
X-WR-CALDESC:Esdeveniments per Ajuntament de Prats de Lluçanès
REFRESH-INTERVAL;VALUE=DURATION:PT1H
X-Robots-Tag:noindex
X-PUBLISHED-TTL:PT1H
BEGIN:VTIMEZONE
TZID:Europe/Madrid
BEGIN:DAYLIGHT
TZOFFSETFROM:+0100
TZOFFSETTO:+0200
TZNAME:CEST
DTSTART:20210328T010000
END:DAYLIGHT
BEGIN:STANDARD
TZOFFSETFROM:+0200
TZOFFSETTO:+0100
TZNAME:CET
DTSTART:20211031T010000
END:STANDARD
END:VTIMEZONE
BEGIN:VTIMEZONE
TZID:Europe/Helsinki
BEGIN:DAYLIGHT
TZOFFSETFROM:+0200
TZOFFSETTO:+0300
TZNAME:EEST
DTSTART:20210328T010000
END:DAYLIGHT
BEGIN:STANDARD
TZOFFSETFROM:+0300
TZOFFSETTO:+0200
TZNAME:EET
DTSTART:20211031T010000
END:STANDARD
END:VTIMEZONE
BEGIN:VEVENT
DTSTART;TZID=Europe/Madrid:20211121T080000
DTEND;TZID=Europe/Madrid:20211121T140000
DTSTAMP:20260425T185719
CREATED:20191121T143647Z
LAST-MODIFIED:20191204T153741Z
UID:36813-1637481600-1637503200@historic.pratsdellucanes.cat
SUMMARY:Mercat dominical i comerços oberts fins al migdia
DESCRIPTION:
URL:https://historic.pratsdellucanes.cat/esdeveniment/mercat-dominical-i-comercos-oberts-fins-al-migdia-201/
CATEGORIES:Agenda
END:VEVENT
BEGIN:VEVENT
DTSTART;TZID=Europe/Helsinki:20211121T090000
DTEND;TZID=Europe/Helsinki:20211121T170000
DTSTAMP:20260425T185719
CREATED:20211117T091110Z
LAST-MODIFIED:20211117T091110Z
UID:45873-1637485200-1637514000@historic.pratsdellucanes.cat
SUMMARY:Cros escolar a Prats de Lluçanès
DESCRIPTION:
URL:https://historic.pratsdellucanes.cat/esdeveniment/cros-escolar-a-prats-de-llucanes/
CATEGORIES:Agenda,Agenda de l'alcalde
END:VEVENT
END:VCALENDAR