BEGIN:VCALENDAR
VERSION:2.0
PRODID:-//Ajuntament de Prats de Lluçanès - ECPv6.14.2//NONSGML v1.0//EN
CALSCALE:GREGORIAN
METHOD:PUBLISH
X-ORIGINAL-URL:https://historic.pratsdellucanes.cat
X-WR-CALDESC:Esdeveniments per Ajuntament de Prats de Lluçanès
REFRESH-INTERVAL;VALUE=DURATION:PT1H
X-Robots-Tag:noindex
X-PUBLISHED-TTL:PT1H
BEGIN:VTIMEZONE
TZID:Europe/Helsinki
BEGIN:DAYLIGHT
TZOFFSETFROM:+0200
TZOFFSETTO:+0300
TZNAME:EEST
DTSTART:20210328T010000
END:DAYLIGHT
BEGIN:STANDARD
TZOFFSETFROM:+0300
TZOFFSETTO:+0200
TZNAME:EET
DTSTART:20211031T010000
END:STANDARD
BEGIN:DAYLIGHT
TZOFFSETFROM:+0200
TZOFFSETTO:+0300
TZNAME:EEST
DTSTART:20220327T010000
END:DAYLIGHT
BEGIN:STANDARD
TZOFFSETFROM:+0300
TZOFFSETTO:+0200
TZNAME:EET
DTSTART:20221030T010000
END:STANDARD
END:VTIMEZONE
BEGIN:VEVENT
DTSTART;TZID=Europe/Helsinki:20211217T080000
DTEND;TZID=Europe/Helsinki:20211218T170000
DTSTAMP:20260425T185709
CREATED:20211217T125747Z
LAST-MODIFIED:20211217T125747Z
UID:46071-1639728000-1639846800@historic.pratsdellucanes.cat
SUMMARY:Mercat de Nadal a la plaça de l'Església
DESCRIPTION:
URL:https://historic.pratsdellucanes.cat/esdeveniment/mercat-de-nadal-a-la-placa-de-lesglesia/
CATEGORIES:Agenda
ATTACH;FMTTYPE=image/jpeg:https://historic.pratsdellucanes.cat/wp-content/uploads/2021/12/CARTELL_MERCAT_NADAL_2021.jpg
END:VEVENT
BEGIN:VEVENT
DTSTART;TZID=Europe/Helsinki:20211217T080000
DTEND;TZID=Europe/Helsinki:20220105T170000
DTSTAMP:20260425T185709
CREATED:20211217T074050Z
LAST-MODIFIED:20211222T145503Z
UID:46058-1639728000-1641402000@historic.pratsdellucanes.cat
SUMMARY:Actes de Nadal a Prats
DESCRIPTION:
URL:https://historic.pratsdellucanes.cat/esdeveniment/actes-de-nadal-a-prats-5/
CATEGORIES:Agenda
ATTACH;FMTTYPE=image/jpeg:https://historic.pratsdellucanes.cat/wp-content/uploads/2021/12/DIPTIC_NADAL_2021_ADAPTAT-2.jpg
END:VEVENT
BEGIN:VEVENT
DTSTART;TZID=Europe/Helsinki:20211218T080000
DTEND;TZID=Europe/Helsinki:20211218T170000
DTSTAMP:20260425T185709
CREATED:20211201T100119Z
LAST-MODIFIED:20211201T100119Z
UID:45997-1639814400-1639846800@historic.pratsdellucanes.cat
SUMMARY:Activitats per La Marató de TV3 a Prats
DESCRIPTION:
URL:https://historic.pratsdellucanes.cat/esdeveniment/activitats-per-la-marato-de-tv3-a-prats/
CATEGORIES:Agenda
ATTACH;FMTTYPE=image/jpeg:https://historic.pratsdellucanes.cat/wp-content/uploads/2021/12/CARTELL_LAMARATO_2021.jpg
END:VEVENT
BEGIN:VEVENT
DTSTART;TZID=Europe/Helsinki:20211218T080000
DTEND;TZID=Europe/Helsinki:20211218T170000
DTSTAMP:20260425T185709
CREATED:20211222T101720Z
LAST-MODIFIED:20211222T101720Z
UID:46111-1639814400-1639846800@historic.pratsdellucanes.cat
SUMMARY:Concert Nadal per la Marató
DESCRIPTION:
URL:https://historic.pratsdellucanes.cat/esdeveniment/concert-nadal-per-la-marato/
CATEGORIES:Agenda de l'alcalde
END:VEVENT
BEGIN:VEVENT
DTSTART;TZID=Europe/Helsinki:20211218T080000
DTEND;TZID=Europe/Helsinki:20211219T170000
DTSTAMP:20260425T185709
CREATED:20211203T054111Z
LAST-MODIFIED:20211209T100113Z
UID:46011-1639814400-1639933200@historic.pratsdellucanes.cat
SUMMARY:Donació de sang a Prats de Lluçanès
DESCRIPTION:
URL:https://historic.pratsdellucanes.cat/esdeveniment/donacio-de-sang-a-prats-de-llucanes-4/
CATEGORIES:Agenda
ATTACH;FMTTYPE=image/jpeg:https://historic.pratsdellucanes.cat/wp-content/uploads/2021/12/Nadal_2021-1.jpg
END:VEVENT
END:VCALENDAR