BEGIN:VCALENDAR
VERSION:2.0
PRODID:-//Ajuntament de Prats de Lluçanès - ECPv6.14.2//NONSGML v1.0//EN
CALSCALE:GREGORIAN
METHOD:PUBLISH
X-ORIGINAL-URL:https://historic.pratsdellucanes.cat
X-WR-CALDESC:Esdeveniments per Ajuntament de Prats de Lluçanès
REFRESH-INTERVAL;VALUE=DURATION:PT1H
X-Robots-Tag:noindex
X-PUBLISHED-TTL:PT1H
BEGIN:VTIMEZONE
TZID:Europe/Helsinki
BEGIN:DAYLIGHT
TZOFFSETFROM:+0200
TZOFFSETTO:+0300
TZNAME:EEST
DTSTART:20220327T010000
END:DAYLIGHT
BEGIN:STANDARD
TZOFFSETFROM:+0300
TZOFFSETTO:+0200
TZNAME:EET
DTSTART:20221030T010000
END:STANDARD
END:VTIMEZONE
BEGIN:VEVENT
DTSTART;TZID=Europe/Helsinki:20220124T080000
DTEND;TZID=Europe/Helsinki:20220213T150000
DTSTAMP:20260425T052705
CREATED:20220124T091040Z
LAST-MODIFIED:20220124T091524Z
UID:46381-1643011200-1644764400@historic.pratsdellucanes.cat
SUMMARY:Exposició 'Músic de tot cor. Joan Tomàs i Parés'
DESCRIPTION:
URL:https://historic.pratsdellucanes.cat/esdeveniment/exposicio-music-de-tot-cor-joan-tomas-i-pares/
CATEGORIES:Agenda
ATTACH;FMTTYPE=image/jpeg:https://historic.pratsdellucanes.cat/wp-content/uploads/2022/01/Cartell-A4-JTomàs_Horaris.jpg
END:VEVENT
BEGIN:VEVENT
DTSTART;TZID=Europe/Helsinki:20220202T090000
DTEND;TZID=Europe/Helsinki:20220202T100000
DTSTAMP:20260425T052705
CREATED:20220208T084152Z
LAST-MODIFIED:20220208T084239Z
UID:46570-1643792400-1643796000@historic.pratsdellucanes.cat
SUMMARY:Reunió SENPLAG
DESCRIPTION:
URL:https://historic.pratsdellucanes.cat/esdeveniment/reunio-senplag-2/
CATEGORIES:Agenda de l'alcalde
END:VEVENT
BEGIN:VEVENT
DTSTART;TZID=Europe/Helsinki:20220202T110000
DTEND;TZID=Europe/Helsinki:20220202T120000
DTSTAMP:20260425T052705
CREATED:20220208T084418Z
LAST-MODIFIED:20220208T084418Z
UID:46575-1643799600-1643803200@historic.pratsdellucanes.cat
SUMMARY:Reunió Empresa Neteja
DESCRIPTION:
URL:https://historic.pratsdellucanes.cat/esdeveniment/reunio-empresa-neteja/
CATEGORIES:Agenda de l'alcalde
END:VEVENT
BEGIN:VEVENT
DTSTART;TZID=Europe/Helsinki:20220202T133000
DTEND;TZID=Europe/Helsinki:20220202T143000
DTSTAMP:20260425T052705
CREATED:20220208T084835Z
LAST-MODIFIED:20220208T084835Z
UID:46577-1643808600-1643812200@historic.pratsdellucanes.cat
SUMMARY:Reunió Linea Verde
DESCRIPTION:
URL:https://historic.pratsdellucanes.cat/esdeveniment/reunio-linea-verde/
CATEGORIES:Agenda de l'alcalde
END:VEVENT
BEGIN:VEVENT
DTSTART;TZID=Europe/Helsinki:20220202T140000
DTEND;TZID=Europe/Helsinki:20220202T150000
DTSTAMP:20260425T052705
CREATED:20220208T084940Z
LAST-MODIFIED:20220208T084940Z
UID:46579-1643810400-1643814000@historic.pratsdellucanes.cat
SUMMARY:Reunió Coordinació Covid-19 Catalunya Central
DESCRIPTION:
URL:https://historic.pratsdellucanes.cat/esdeveniment/reunio-coordinacio-covid-19-catalunya-central-7/
CATEGORIES:Agenda de l'alcalde
END:VEVENT
BEGIN:VEVENT
DTSTART;TZID=Europe/Helsinki:20220202T160000
DTEND;TZID=Europe/Helsinki:20220202T170000
DTSTAMP:20260425T052705
CREATED:20220208T085139Z
LAST-MODIFIED:20220208T085139Z
UID:46581-1643817600-1643821200@historic.pratsdellucanes.cat
SUMMARY:Reunió UVic Turisme
DESCRIPTION:
URL:https://historic.pratsdellucanes.cat/esdeveniment/reunio-uvic-turisme/
CATEGORIES:Agenda de l'alcalde
END:VEVENT
BEGIN:VEVENT
DTSTART;TZID=Europe/Helsinki:20220202T170000
DTEND;TZID=Europe/Helsinki:20220202T180000
DTSTAMP:20260425T052705
CREATED:20220208T085214Z
LAST-MODIFIED:20220208T085214Z
UID:46583-1643821200-1643824800@historic.pratsdellucanes.cat
SUMMARY:Reunió 5G
DESCRIPTION:
URL:https://historic.pratsdellucanes.cat/esdeveniment/reunio-5g/
CATEGORIES:Agenda de l'alcalde
END:VEVENT
BEGIN:VEVENT
DTSTART;TZID=Europe/Helsinki:20220202T170000
DTEND;TZID=Europe/Helsinki:20220202T180000
DTSTAMP:20260425T052705
CREATED:20220208T085309Z
LAST-MODIFIED:20220208T085309Z
UID:46585-1643821200-1643824800@historic.pratsdellucanes.cat
SUMMARY:Reunió Fundació Doctor Grau
DESCRIPTION:
URL:https://historic.pratsdellucanes.cat/esdeveniment/reunio-fundacio-doctor-grau/
CATEGORIES:Agenda de l'alcalde
END:VEVENT
END:VCALENDAR