BEGIN:VCALENDAR
VERSION:2.0
PRODID:-//Ajuntament de Prats de Lluçanès - ECPv6.14.2//NONSGML v1.0//EN
CALSCALE:GREGORIAN
METHOD:PUBLISH
X-WR-CALNAME:Ajuntament de Prats de Lluçanès
X-ORIGINAL-URL:https://historic.pratsdellucanes.cat
X-WR-CALDESC:Esdeveniments per Ajuntament de Prats de Lluçanès
REFRESH-INTERVAL;VALUE=DURATION:PT1H
X-Robots-Tag:noindex
X-PUBLISHED-TTL:PT1H
BEGIN:VTIMEZONE
TZID:Europe/Helsinki
BEGIN:DAYLIGHT
TZOFFSETFROM:+0200
TZOFFSETTO:+0300
TZNAME:EEST
DTSTART:20220327T010000
END:DAYLIGHT
BEGIN:STANDARD
TZOFFSETFROM:+0300
TZOFFSETTO:+0200
TZNAME:EET
DTSTART:20221030T010000
END:STANDARD
END:VTIMEZONE
BEGIN:VEVENT
DTSTART;TZID=Europe/Helsinki:20220124T080000
DTEND;TZID=Europe/Helsinki:20220213T150000
DTSTAMP:20260425T034643
CREATED:20220124T091040Z
LAST-MODIFIED:20220124T091524Z
UID:46381-1643011200-1644764400@historic.pratsdellucanes.cat
SUMMARY:Exposició 'Músic de tot cor. Joan Tomàs i Parés'
DESCRIPTION:
URL:https://historic.pratsdellucanes.cat/esdeveniment/exposicio-music-de-tot-cor-joan-tomas-i-pares/
CATEGORIES:Agenda
ATTACH;FMTTYPE=image/jpeg:https://historic.pratsdellucanes.cat/wp-content/uploads/2022/01/Cartell-A4-JTomàs_Horaris.jpg
END:VEVENT
BEGIN:VEVENT
DTSTART;VALUE=DATE:20220205
DTEND;VALUE=DATE:20220206
DTSTAMP:20260425T034643
CREATED:20220124T090259Z
LAST-MODIFIED:20220131T102140Z
UID:46379-1644019200-1644105599@historic.pratsdellucanes.cat
SUMMARY:Santa Àgata a Prats de Lluçanès
DESCRIPTION:
URL:https://historic.pratsdellucanes.cat/esdeveniment/santa-agata-a-prats-de-llucanes/
CATEGORIES:Agenda
ATTACH;FMTTYPE=image/jpeg:https://historic.pratsdellucanes.cat/wp-content/uploads/2022/01/CARTELL_SANTA_AGATA_2022-3.jpg
END:VEVENT
BEGIN:VEVENT
DTSTART;TZID=Europe/Helsinki:20220205T080000
DTEND;TZID=Europe/Helsinki:20220205T170000
DTSTAMP:20260425T034643
CREATED:20220208T085453Z
LAST-MODIFIED:20220208T085453Z
UID:46587-1644048000-1644080400@historic.pratsdellucanes.cat
SUMMARY:Diada de Santa Àgata
DESCRIPTION:
URL:https://historic.pratsdellucanes.cat/esdeveniment/diada-de-santa-agata/
CATEGORIES:Agenda de l'alcalde
END:VEVENT
END:VCALENDAR