BEGIN:VCALENDAR
VERSION:2.0
PRODID:-//Ajuntament de Prats de Lluçanès - ECPv6.14.2//NONSGML v1.0//EN
CALSCALE:GREGORIAN
METHOD:PUBLISH
X-WR-CALNAME:Ajuntament de Prats de Lluçanès
X-ORIGINAL-URL:https://historic.pratsdellucanes.cat
X-WR-CALDESC:Esdeveniments per Ajuntament de Prats de Lluçanès
REFRESH-INTERVAL;VALUE=DURATION:PT1H
X-Robots-Tag:noindex
X-PUBLISHED-TTL:PT1H
BEGIN:VTIMEZONE
TZID:Europe/Helsinki
BEGIN:DAYLIGHT
TZOFFSETFROM:+0200
TZOFFSETTO:+0300
TZNAME:EEST
DTSTART:20220327T010000
END:DAYLIGHT
BEGIN:STANDARD
TZOFFSETFROM:+0300
TZOFFSETTO:+0200
TZNAME:EET
DTSTART:20221030T010000
END:STANDARD
END:VTIMEZONE
BEGIN:VEVENT
DTSTART;TZID=Europe/Helsinki:20220715T200000
DTEND;TZID=Europe/Helsinki:20220715T220000
DTSTAMP:20260424T001015
CREATED:20220707T065245Z
LAST-MODIFIED:20220707T065245Z
UID:47679-1657915200-1657922400@historic.pratsdellucanes.cat
SUMMARY:Cantada final EnCants del Món a Prats de Lluçanès
DESCRIPTION:
URL:https://historic.pratsdellucanes.cat/esdeveniment/cantada-final-encants-del-mon-a-prats-de-llucanes/
CATEGORIES:Agenda
ATTACH;FMTTYPE=image/png:https://historic.pratsdellucanes.cat/wp-content/uploads/2022/07/Cartell-Final-EnCants-Món-2022_final.png
END:VEVENT
END:VCALENDAR