BEGIN:VCALENDAR
VERSION:2.0
PRODID:-//Ajuntament de Prats de Lluçanès - ECPv6.14.2//NONSGML v1.0//EN
CALSCALE:GREGORIAN
METHOD:PUBLISH
X-WR-CALNAME:Ajuntament de Prats de Lluçanès
X-ORIGINAL-URL:https://historic.pratsdellucanes.cat
X-WR-CALDESC:Esdeveniments per Ajuntament de Prats de Lluçanès
REFRESH-INTERVAL;VALUE=DURATION:PT1H
X-Robots-Tag:noindex
X-PUBLISHED-TTL:PT1H
BEGIN:VTIMEZONE
TZID:Europe/Helsinki
BEGIN:DAYLIGHT
TZOFFSETFROM:+0200
TZOFFSETTO:+0300
TZNAME:EEST
DTSTART:20220327T010000
END:DAYLIGHT
BEGIN:STANDARD
TZOFFSETFROM:+0300
TZOFFSETTO:+0200
TZNAME:EET
DTSTART:20221030T010000
END:STANDARD
END:VTIMEZONE
BEGIN:VEVENT
DTSTART;TZID=Europe/Helsinki:20220921T090000
DTEND;TZID=Europe/Helsinki:20220921T100000
DTSTAMP:20260423T184957
CREATED:20230109T100054Z
LAST-MODIFIED:20230109T100054Z
UID:48785-1663750800-1663754400@historic.pratsdellucanes.cat
SUMMARY:Geotermia Escola la Pitota
DESCRIPTION:
URL:https://historic.pratsdellucanes.cat/esdeveniment/geotermia-escola-la-pitota/
CATEGORIES:Agenda de l'alcalde
END:VEVENT
BEGIN:VEVENT
DTSTART;TZID=Europe/Helsinki:20220921T090000
DTEND;TZID=Europe/Helsinki:20220921T100000
DTSTAMP:20260423T184957
CREATED:20230109T104928Z
LAST-MODIFIED:20230109T104928Z
UID:48797-1663750800-1663754400@historic.pratsdellucanes.cat
SUMMARY:Reunió protectora animals
DESCRIPTION:
URL:https://historic.pratsdellucanes.cat/esdeveniment/reunio-protectora-animals/
CATEGORIES:Agenda de l'alcalde
END:VEVENT
BEGIN:VEVENT
DTSTART;TZID=Europe/Helsinki:20220921T100000
DTEND;TZID=Europe/Helsinki:20220921T110000
DTSTAMP:20260423T184957
CREATED:20230109T101425Z
LAST-MODIFIED:20230109T101425Z
UID:48787-1663754400-1663758000@historic.pratsdellucanes.cat
SUMMARY:Reunió Fundació Benito
DESCRIPTION:
URL:https://historic.pratsdellucanes.cat/esdeveniment/reunio-fundacio-benito/
CATEGORIES:Agenda de l'alcalde
END:VEVENT
BEGIN:VEVENT
DTSTART;TZID=Europe/Helsinki:20220921T110000
DTEND;TZID=Europe/Helsinki:20220921T120000
DTSTAMP:20260423T184957
CREATED:20230109T103834Z
LAST-MODIFIED:20230109T103834Z
UID:48789-1663758000-1663761600@historic.pratsdellucanes.cat
SUMMARY:Mesa de negociació
DESCRIPTION:
URL:https://historic.pratsdellucanes.cat/esdeveniment/mesa-de-negociacio-3/
CATEGORIES:Agenda de l'alcalde
END:VEVENT
BEGIN:VEVENT
DTSTART;TZID=Europe/Helsinki:20220921T120000
DTEND;TZID=Europe/Helsinki:20220921T130000
DTSTAMP:20260423T184957
CREATED:20230109T103950Z
LAST-MODIFIED:20230109T103950Z
UID:48791-1663761600-1663765200@historic.pratsdellucanes.cat
SUMMARY:Reunió ENDESA
DESCRIPTION:
URL:https://historic.pratsdellucanes.cat/esdeveniment/reunio-endesa-2/
CATEGORIES:Agenda de l'alcalde
END:VEVENT
BEGIN:VEVENT
DTSTART;TZID=Europe/Helsinki:20220921T200000
DTEND;TZID=Europe/Helsinki:20220921T220000
DTSTAMP:20260423T184957
CREATED:20230109T104045Z
LAST-MODIFIED:20230109T104045Z
UID:48793-1663790400-1663797600@historic.pratsdellucanes.cat
SUMMARY:Ple municipal
DESCRIPTION:
URL:https://historic.pratsdellucanes.cat/esdeveniment/ple-municipal-15/
CATEGORIES:Agenda de l'alcalde
END:VEVENT
END:VCALENDAR