BEGIN:VCALENDAR
VERSION:2.0
PRODID:-//Ajuntament de Prats de Lluçanès - ECPv6.14.2//NONSGML v1.0//EN
CALSCALE:GREGORIAN
METHOD:PUBLISH
X-WR-CALNAME:Ajuntament de Prats de Lluçanès
X-ORIGINAL-URL:https://historic.pratsdellucanes.cat
X-WR-CALDESC:Esdeveniments per Ajuntament de Prats de Lluçanès
REFRESH-INTERVAL;VALUE=DURATION:PT1H
X-Robots-Tag:noindex
X-PUBLISHED-TTL:PT1H
BEGIN:VTIMEZONE
TZID:Europe/Helsinki
BEGIN:DAYLIGHT
TZOFFSETFROM:+0200
TZOFFSETTO:+0300
TZNAME:EEST
DTSTART:20220327T010000
END:DAYLIGHT
BEGIN:STANDARD
TZOFFSETFROM:+0300
TZOFFSETTO:+0200
TZNAME:EET
DTSTART:20221030T010000
END:STANDARD
END:VTIMEZONE
BEGIN:VEVENT
DTSTART;TZID=Europe/Helsinki:20221103T100000
DTEND;TZID=Europe/Helsinki:20221103T120000
DTSTAMP:20260423T204729
CREATED:20230116T142657Z
LAST-MODIFIED:20230116T142657Z
UID:48881-1667469600-1667476800@historic.pratsdellucanes.cat
SUMMARY:Reunió Puigneró
DESCRIPTION:
URL:https://historic.pratsdellucanes.cat/esdeveniment/reunio-puignero-4/
CATEGORIES:Agenda de l'alcalde
END:VEVENT
BEGIN:VEVENT
DTSTART;TZID=Europe/Helsinki:20221103T120000
DTEND;TZID=Europe/Helsinki:20221103T130000
DTSTAMP:20260423T204729
CREATED:20230116T142729Z
LAST-MODIFIED:20230116T142729Z
UID:48883-1667476800-1667480400@historic.pratsdellucanes.cat
SUMMARY:Senyalització carrers
DESCRIPTION:
URL:https://historic.pratsdellucanes.cat/esdeveniment/senyalitzacio-carrers/
CATEGORIES:Agenda de l'alcalde
END:VEVENT
BEGIN:VEVENT
DTSTART;TZID=Europe/Helsinki:20221103T160000
DTEND;TZID=Europe/Helsinki:20221103T170000
DTSTAMP:20260423T204729
CREATED:20230116T142806Z
LAST-MODIFIED:20230116T142806Z
UID:48885-1667491200-1667494800@historic.pratsdellucanes.cat
SUMMARY:Reunió comissió festes
DESCRIPTION:
URL:https://historic.pratsdellucanes.cat/esdeveniment/reunio-comissio-festes/
CATEGORIES:Agenda de l'alcalde
END:VEVENT
END:VCALENDAR