BEGIN:VCALENDAR
VERSION:2.0
PRODID:-//Ajuntament de Prats de Lluçanès - ECPv6.14.2//NONSGML v1.0//EN
CALSCALE:GREGORIAN
METHOD:PUBLISH
X-ORIGINAL-URL:https://historic.pratsdellucanes.cat
X-WR-CALDESC:Esdeveniments per Ajuntament de Prats de Lluçanès
REFRESH-INTERVAL;VALUE=DURATION:PT1H
X-Robots-Tag:noindex
X-PUBLISHED-TTL:PT1H
BEGIN:VTIMEZONE
TZID:Europe/Helsinki
BEGIN:DAYLIGHT
TZOFFSETFROM:+0200
TZOFFSETTO:+0300
TZNAME:EEST
DTSTART:20220327T010000
END:DAYLIGHT
BEGIN:STANDARD
TZOFFSETFROM:+0300
TZOFFSETTO:+0200
TZNAME:EET
DTSTART:20221030T010000
END:STANDARD
END:VTIMEZONE
BEGIN:VEVENT
DTSTART;TZID=Europe/Helsinki:20221215T090000
DTEND;TZID=Europe/Helsinki:20221215T100000
DTSTAMP:20260423T045803
CREATED:20230105T105559Z
LAST-MODIFIED:20230105T105559Z
UID:48753-1671094800-1671098400@historic.pratsdellucanes.cat
SUMMARY:Reunió oficines
DESCRIPTION:
URL:https://historic.pratsdellucanes.cat/esdeveniment/reunio-oficines/
CATEGORIES:Agenda de l'alcalde
END:VEVENT
BEGIN:VEVENT
DTSTART;TZID=Europe/Helsinki:20221215T100000
DTEND;TZID=Europe/Helsinki:20221215T110000
DTSTAMP:20260423T045803
CREATED:20230105T105646Z
LAST-MODIFIED:20230105T105646Z
UID:48755-1671098400-1671102000@historic.pratsdellucanes.cat
SUMMARY:Reunió veïns propietari
DESCRIPTION:
URL:https://historic.pratsdellucanes.cat/esdeveniment/reunio-veins-propietari/
CATEGORIES:Agenda de l'alcalde
END:VEVENT
BEGIN:VEVENT
DTSTART;TZID=Europe/Helsinki:20221215T120000
DTEND;TZID=Europe/Helsinki:20221215T130000
DTSTAMP:20260423T045803
CREATED:20230105T105807Z
LAST-MODIFIED:20230105T105807Z
UID:48757-1671105600-1671109200@historic.pratsdellucanes.cat
SUMMARY:Reunió AFA IES Castell del Quer
DESCRIPTION:
URL:https://historic.pratsdellucanes.cat/esdeveniment/reunio-afa-ies-castell-del-quer/
CATEGORIES:Agenda de l'alcalde
END:VEVENT
BEGIN:VEVENT
DTSTART;TZID=Europe/Helsinki:20221215T170000
DTEND;TZID=Europe/Helsinki:20221215T170000
DTSTAMP:20260423T045803
CREATED:20221213T134040Z
LAST-MODIFIED:20221213T134040Z
UID:48406-1671123600-1671123600@historic.pratsdellucanes.cat
SUMMARY:Xerrada per La Marató de TV3: La salut cardiovascular
DESCRIPTION:A les 5 de la tarda\, a l’Espai Social de la Gent Gran. A càrrec del Dr. Miquel Casadevall.
URL:https://historic.pratsdellucanes.cat/esdeveniment/xerrada-per-la-marato-de-tv3-la-salut-cardiovascular/
END:VEVENT
END:VCALENDAR