BEGIN:VCALENDAR
VERSION:2.0
PRODID:-//Ajuntament de Prats de Lluçanès - ECPv6.14.2//NONSGML v1.0//EN
CALSCALE:GREGORIAN
METHOD:PUBLISH
X-WR-CALNAME:Ajuntament de Prats de Lluçanès
X-ORIGINAL-URL:https://historic.pratsdellucanes.cat
X-WR-CALDESC:Esdeveniments per Ajuntament de Prats de Lluçanès
REFRESH-INTERVAL;VALUE=DURATION:PT1H
X-Robots-Tag:noindex
X-PUBLISHED-TTL:PT1H
BEGIN:VTIMEZONE
TZID:Europe/Helsinki
BEGIN:DAYLIGHT
TZOFFSETFROM:+0200
TZOFFSETTO:+0300
TZNAME:EEST
DTSTART:20220327T010000
END:DAYLIGHT
BEGIN:STANDARD
TZOFFSETFROM:+0300
TZOFFSETTO:+0200
TZNAME:EET
DTSTART:20221030T010000
END:STANDARD
END:VTIMEZONE
BEGIN:VEVENT
DTSTART;TZID=Europe/Helsinki:20221219T170000
DTEND;TZID=Europe/Helsinki:20221219T170000
DTSTAMP:20260423T152349
CREATED:20221215T172018Z
LAST-MODIFIED:20221215T172018Z
UID:48455-1671469200-1671469200@historic.pratsdellucanes.cat
SUMMARY:Xerrada sobre consells de seguretat
DESCRIPTION:A les 5 de la tarda a l’Espai Social de la gent gran.
URL:https://historic.pratsdellucanes.cat/esdeveniment/xerrada-sobre-consells-de-seguretat/
CATEGORIES:Agenda
END:VEVENT
END:VCALENDAR