BEGIN:VCALENDAR
VERSION:2.0
PRODID:-//Ajuntament de Prats de Lluçanès - ECPv6.14.2//NONSGML v1.0//EN
CALSCALE:GREGORIAN
METHOD:PUBLISH
X-WR-CALNAME:Ajuntament de Prats de Lluçanès
X-ORIGINAL-URL:https://historic.pratsdellucanes.cat
X-WR-CALDESC:Esdeveniments per Ajuntament de Prats de Lluçanès
REFRESH-INTERVAL;VALUE=DURATION:PT1H
X-Robots-Tag:noindex
X-PUBLISHED-TTL:PT1H
BEGIN:VTIMEZONE
TZID:Europe/Helsinki
BEGIN:DAYLIGHT
TZOFFSETFROM:+0200
TZOFFSETTO:+0300
TZNAME:EEST
DTSTART:20220327T010000
END:DAYLIGHT
BEGIN:STANDARD
TZOFFSETFROM:+0300
TZOFFSETTO:+0200
TZNAME:EET
DTSTART:20221030T010000
END:STANDARD
END:VTIMEZONE
BEGIN:VEVENT
DTSTART;TZID=Europe/Helsinki:20221221T100000
DTEND;TZID=Europe/Helsinki:20221221T120000
DTSTAMP:20260423T103447
CREATED:20230105T110520Z
LAST-MODIFIED:20230105T110520Z
UID:48771-1671616800-1671624000@historic.pratsdellucanes.cat
SUMMARY:Reunió Mancomunitat Aigües Merlès
DESCRIPTION:
URL:https://historic.pratsdellucanes.cat/esdeveniment/reunio-mancomunitat-aigues-merles-3/
CATEGORIES:Agenda de l'alcalde
END:VEVENT
BEGIN:VEVENT
DTSTART;TZID=Europe/Helsinki:20221221T160000
DTEND;TZID=Europe/Helsinki:20221221T170000
DTSTAMP:20260423T103447
CREATED:20230105T110619Z
LAST-MODIFIED:20230105T110619Z
UID:48773-1671638400-1671642000@historic.pratsdellucanes.cat
SUMMARY:Reunió SENPLAG
DESCRIPTION:
URL:https://historic.pratsdellucanes.cat/esdeveniment/reunio-senplag-4/
CATEGORIES:Agenda de l'alcalde
END:VEVENT
END:VCALENDAR