BEGIN:VCALENDAR
VERSION:2.0
PRODID:-//Ajuntament de Prats de Lluçanès - ECPv6.14.2//NONSGML v1.0//EN
CALSCALE:GREGORIAN
METHOD:PUBLISH
X-WR-CALNAME:Ajuntament de Prats de Lluçanès
X-ORIGINAL-URL:https://historic.pratsdellucanes.cat
X-WR-CALDESC:Esdeveniments per Ajuntament de Prats de Lluçanès
REFRESH-INTERVAL;VALUE=DURATION:PT1H
X-Robots-Tag:noindex
X-PUBLISHED-TTL:PT1H
BEGIN:VTIMEZONE
TZID:Europe/Helsinki
BEGIN:DAYLIGHT
TZOFFSETFROM:+0200
TZOFFSETTO:+0300
TZNAME:EEST
DTSTART:20220327T010000
END:DAYLIGHT
BEGIN:STANDARD
TZOFFSETFROM:+0300
TZOFFSETTO:+0200
TZNAME:EET
DTSTART:20221030T010000
END:STANDARD
END:VTIMEZONE
BEGIN:VEVENT
DTSTART;TZID=Europe/Helsinki:20221222T090000
DTEND;TZID=Europe/Helsinki:20221222T100000
DTSTAMP:20260423T103444
CREATED:20230105T110856Z
LAST-MODIFIED:20230105T110856Z
UID:48775-1671699600-1671703200@historic.pratsdellucanes.cat
SUMMARY:Reunió aplicatiu informàtic comerç
DESCRIPTION:
URL:https://historic.pratsdellucanes.cat/esdeveniment/reunio-aplicatiu-informatic-comerc/
CATEGORIES:Agenda de l'alcalde
END:VEVENT
BEGIN:VEVENT
DTSTART;TZID=Europe/Helsinki:20221222T160000
DTEND;TZID=Europe/Helsinki:20221222T160000
DTSTAMP:20260423T103444
CREATED:20221215T172139Z
LAST-MODIFIED:20221215T172139Z
UID:48458-1671724800-1671724800@historic.pratsdellucanes.cat
SUMMARY:Contes del Món
DESCRIPTION:A les 4 de la tarda a l’Espai.
URL:https://historic.pratsdellucanes.cat/esdeveniment/contes-del-mon/
CATEGORIES:Agenda
END:VEVENT
END:VCALENDAR