BEGIN:VCALENDAR
VERSION:2.0
PRODID:-//Ajuntament de Prats de Lluçanès - ECPv6.14.2//NONSGML v1.0//EN
CALSCALE:GREGORIAN
METHOD:PUBLISH
X-ORIGINAL-URL:https://historic.pratsdellucanes.cat
X-WR-CALDESC:Esdeveniments per Ajuntament de Prats de Lluçanès
REFRESH-INTERVAL;VALUE=DURATION:PT1H
X-Robots-Tag:noindex
X-PUBLISHED-TTL:PT1H
BEGIN:VTIMEZONE
TZID:Europe/Helsinki
BEGIN:DAYLIGHT
TZOFFSETFROM:+0200
TZOFFSETTO:+0300
TZNAME:EEST
DTSTART:20220327T010000
END:DAYLIGHT
BEGIN:STANDARD
TZOFFSETFROM:+0300
TZOFFSETTO:+0200
TZNAME:EET
DTSTART:20221030T010000
END:STANDARD
END:VTIMEZONE
BEGIN:VEVENT
DTSTART;TZID=Europe/Helsinki:20221224T113000
DTEND;TZID=Europe/Helsinki:20221224T113000
DTSTAMP:20260423T140956
CREATED:20221219T151154Z
LAST-MODIFIED:20221219T151154Z
UID:48476-1671881400-1671881400@historic.pratsdellucanes.cat
SUMMARY:Fem cagar el Tió
DESCRIPTION:La Unió de Botiguers i Comerciants fa una crida a fer cagar el Tió als infants a la plaça Nova. Porteu bastons!
URL:https://historic.pratsdellucanes.cat/esdeveniment/fem-cagar-el-tio/
CATEGORIES:Agenda
END:VEVENT
END:VCALENDAR