BEGIN:VCALENDAR
VERSION:2.0
PRODID:-//Ajuntament de Prats de Lluçanès - ECPv6.14.2//NONSGML v1.0//EN
CALSCALE:GREGORIAN
METHOD:PUBLISH
X-WR-CALNAME:Ajuntament de Prats de Lluçanès
X-ORIGINAL-URL:https://historic.pratsdellucanes.cat
X-WR-CALDESC:Esdeveniments per Ajuntament de Prats de Lluçanès
REFRESH-INTERVAL;VALUE=DURATION:PT1H
X-Robots-Tag:noindex
X-PUBLISHED-TTL:PT1H
BEGIN:VTIMEZONE
TZID:Europe/Helsinki
BEGIN:DAYLIGHT
TZOFFSETFROM:+0200
TZOFFSETTO:+0300
TZNAME:EEST
DTSTART:20220327T010000
END:DAYLIGHT
BEGIN:STANDARD
TZOFFSETFROM:+0300
TZOFFSETTO:+0200
TZNAME:EET
DTSTART:20221030T010000
END:STANDARD
END:VTIMEZONE
BEGIN:VEVENT
DTSTART;TZID=Europe/Helsinki:20221225T003000
DTEND;TZID=Europe/Helsinki:20221225T003000
DTSTAMP:20260423T154348
CREATED:20221219T151410Z
LAST-MODIFIED:20221219T151410Z
UID:48478-1671928200-1671928200@historic.pratsdellucanes.cat
SUMMARY:Discomòbil: Txupitassu
DESCRIPTION:Al pavelló municipal. Organitzat per la Colla Gegantera.
URL:https://historic.pratsdellucanes.cat/esdeveniment/discomobil-txupitassu/
CATEGORIES:Agenda
END:VEVENT
END:VCALENDAR