BEGIN:VCALENDAR
VERSION:2.0
PRODID:-//Ajuntament de Prats de Lluçanès - ECPv6.14.2//NONSGML v1.0//EN
CALSCALE:GREGORIAN
METHOD:PUBLISH
X-WR-CALNAME:Ajuntament de Prats de Lluçanès
X-ORIGINAL-URL:https://historic.pratsdellucanes.cat
X-WR-CALDESC:Esdeveniments per Ajuntament de Prats de Lluçanès
REFRESH-INTERVAL;VALUE=DURATION:PT1H
X-Robots-Tag:noindex
X-PUBLISHED-TTL:PT1H
BEGIN:VTIMEZONE
TZID:Europe/Helsinki
BEGIN:DAYLIGHT
TZOFFSETFROM:+0200
TZOFFSETTO:+0300
TZNAME:EEST
DTSTART:20220327T010000
END:DAYLIGHT
BEGIN:STANDARD
TZOFFSETFROM:+0300
TZOFFSETTO:+0200
TZNAME:EET
DTSTART:20221030T010000
END:STANDARD
END:VTIMEZONE
BEGIN:VEVENT
DTSTART;TZID=Europe/Helsinki:20221227T100000
DTEND;TZID=Europe/Helsinki:20221229T200000
DTSTAMP:20260423T103445
CREATED:20221128T072418Z
LAST-MODIFIED:20221128T072418Z
UID:48359-1672135200-1672344000@historic.pratsdellucanes.cat
SUMMARY:Juguem a Prats
DESCRIPTION:
URL:https://historic.pratsdellucanes.cat/esdeveniment/juguem-a-prats-4/
CATEGORIES:Agenda
ATTACH;FMTTYPE=image/jpeg:https://historic.pratsdellucanes.cat/wp-content/uploads/2022/11/WhatsApp-Image-2022-11-25-at-13.46.56.jpeg
END:VEVENT
END:VCALENDAR