BEGIN:VCALENDAR
VERSION:2.0
PRODID:-//Ajuntament de Prats de Lluçanès - ECPv6.14.2//NONSGML v1.0//EN
CALSCALE:GREGORIAN
METHOD:PUBLISH
X-WR-CALNAME:Ajuntament de Prats de Lluçanès
X-ORIGINAL-URL:https://historic.pratsdellucanes.cat
X-WR-CALDESC:Esdeveniments per Ajuntament de Prats de Lluçanès
REFRESH-INTERVAL;VALUE=DURATION:PT1H
X-Robots-Tag:noindex
X-PUBLISHED-TTL:PT1H
BEGIN:VTIMEZONE
TZID:Europe/Helsinki
BEGIN:DAYLIGHT
TZOFFSETFROM:+0200
TZOFFSETTO:+0300
TZNAME:EEST
DTSTART:20230326T010000
END:DAYLIGHT
BEGIN:STANDARD
TZOFFSETFROM:+0300
TZOFFSETTO:+0200
TZNAME:EET
DTSTART:20231029T010000
END:STANDARD
END:VTIMEZONE
BEGIN:VEVENT
DTSTART;VALUE=DATE:20230203
DTEND;VALUE=DATE:20230206
DTSTAMP:20260423T012451
CREATED:20230124T121044Z
LAST-MODIFIED:20230124T121044Z
UID:49043-1675382400-1675641599@historic.pratsdellucanes.cat
SUMMARY:Santa Àgata
DESCRIPTION:
URL:https://historic.pratsdellucanes.cat/esdeveniment/santa-agata/
CATEGORIES:Agenda,Agenda de l'alcalde
ATTACH;FMTTYPE=image/jpeg:https://historic.pratsdellucanes.cat/wp-content/uploads/2023/01/CARTELL_SANTA_AGATA_2023_XXSS.jpg
END:VEVENT
BEGIN:VEVENT
DTSTART;TZID=Europe/Helsinki:20230203T100000
DTEND;TZID=Europe/Helsinki:20230203T110000
DTSTAMP:20260423T012451
CREATED:20230201T074256Z
LAST-MODIFIED:20230201T074256Z
UID:49180-1675418400-1675422000@historic.pratsdellucanes.cat
SUMMARY:Reunió SENPLAG
DESCRIPTION:
URL:https://historic.pratsdellucanes.cat/esdeveniment/reunio-senplag-7/
CATEGORIES:Agenda de l'alcalde
END:VEVENT
BEGIN:VEVENT
DTSTART;TZID=Europe/Helsinki:20230203T203000
DTEND;TZID=Europe/Helsinki:20230203T213000
DTSTAMP:20260423T012451
CREATED:20230201T074337Z
LAST-MODIFIED:20230201T074337Z
UID:49182-1675456200-1675459800@historic.pratsdellucanes.cat
SUMMARY:Presentació treballs de recerca
DESCRIPTION:
URL:https://historic.pratsdellucanes.cat/esdeveniment/presentacio-treballs-de-recerca-2/
CATEGORIES:Agenda de l'alcalde
END:VEVENT
END:VCALENDAR