BEGIN:VCALENDAR
VERSION:2.0
PRODID:-//Ajuntament de Prats de Lluçanès - ECPv6.14.2//NONSGML v1.0//EN
CALSCALE:GREGORIAN
METHOD:PUBLISH
X-WR-CALNAME:Ajuntament de Prats de Lluçanès
X-ORIGINAL-URL:https://historic.pratsdellucanes.cat
X-WR-CALDESC:Esdeveniments per Ajuntament de Prats de Lluçanès
REFRESH-INTERVAL;VALUE=DURATION:PT1H
X-Robots-Tag:noindex
X-PUBLISHED-TTL:PT1H
BEGIN:VTIMEZONE
TZID:Europe/Helsinki
BEGIN:DAYLIGHT
TZOFFSETFROM:+0200
TZOFFSETTO:+0300
TZNAME:EEST
DTSTART:20230326T010000
END:DAYLIGHT
BEGIN:STANDARD
TZOFFSETFROM:+0300
TZOFFSETTO:+0200
TZNAME:EET
DTSTART:20231029T010000
END:STANDARD
END:VTIMEZONE
BEGIN:VEVENT
DTSTART;TZID=Europe/Helsinki:20230212T110000
DTEND;TZID=Europe/Helsinki:20230212T120000
DTSTAMP:20260423T135352
CREATED:20230201T074739Z
LAST-MODIFIED:20230201T074739Z
UID:49192-1676199600-1676203200@historic.pratsdellucanes.cat
SUMMARY:Presentació guia del Lluçanès
DESCRIPTION:
URL:https://historic.pratsdellucanes.cat/esdeveniment/presentacio-guia-del-llucanes/
CATEGORIES:Agenda de l'alcalde
END:VEVENT
BEGIN:VEVENT
DTSTART;TZID=Europe/Helsinki:20230212T120000
DTEND;TZID=Europe/Helsinki:20230212T130000
DTSTAMP:20260423T135352
CREATED:20230202T100255Z
LAST-MODIFIED:20230202T100255Z
UID:49206-1676203200-1676206800@historic.pratsdellucanes.cat
SUMMARY:Presentació de la guia del Lluçanès
DESCRIPTION:
URL:https://historic.pratsdellucanes.cat/esdeveniment/presentacio-de-la-guia-del-llucanes/
CATEGORIES:Agenda
ATTACH;FMTTYPE=image/jpeg:https://historic.pratsdellucanes.cat/wp-content/uploads/2023/02/20230212_guiallucanes_presentacio_prats.jpg
END:VEVENT
END:VCALENDAR