BEGIN:VCALENDAR
VERSION:2.0
PRODID:-//Ajuntament de Prats de Lluçanès - ECPv6.14.2//NONSGML v1.0//EN
CALSCALE:GREGORIAN
METHOD:PUBLISH
X-WR-CALNAME:Ajuntament de Prats de Lluçanès
X-ORIGINAL-URL:https://historic.pratsdellucanes.cat
X-WR-CALDESC:Esdeveniments per Ajuntament de Prats de Lluçanès
REFRESH-INTERVAL;VALUE=DURATION:PT1H
X-Robots-Tag:noindex
X-PUBLISHED-TTL:PT1H
BEGIN:VTIMEZONE
TZID:Europe/Helsinki
BEGIN:DAYLIGHT
TZOFFSETFROM:+0200
TZOFFSETTO:+0300
TZNAME:EEST
DTSTART:20230326T010000
END:DAYLIGHT
BEGIN:STANDARD
TZOFFSETFROM:+0300
TZOFFSETTO:+0200
TZNAME:EET
DTSTART:20231029T010000
END:STANDARD
END:VTIMEZONE
BEGIN:VEVENT
DTSTART;TZID=Europe/Helsinki:20230214T090000
DTEND;TZID=Europe/Helsinki:20230214T100000
DTSTAMP:20260423T012455
CREATED:20230227T092909Z
LAST-MODIFIED:20230227T092909Z
UID:49304-1676365200-1676368800@historic.pratsdellucanes.cat
SUMMARY:Visita obres camp de futbol
DESCRIPTION:
URL:https://historic.pratsdellucanes.cat/esdeveniment/visita-obres-camp-de-futbol/
CATEGORIES:Agenda de l'alcalde
END:VEVENT
BEGIN:VEVENT
DTSTART;TZID=Europe/Helsinki:20230214T090000
DTEND;TZID=Europe/Helsinki:20230214T100000
DTSTAMP:20260423T012455
CREATED:20230227T092941Z
LAST-MODIFIED:20230227T092941Z
UID:49306-1676365200-1676368800@historic.pratsdellucanes.cat
SUMMARY:Reunió comunitat energètica Prats
DESCRIPTION:
URL:https://historic.pratsdellucanes.cat/esdeveniment/reunio-comunitat-energetica-prats/
CATEGORIES:Agenda de l'alcalde
END:VEVENT
BEGIN:VEVENT
DTSTART;TZID=Europe/Helsinki:20230214T100000
DTEND;TZID=Europe/Helsinki:20230214T110000
DTSTAMP:20260423T012455
CREATED:20230227T093035Z
LAST-MODIFIED:20230227T093035Z
UID:49308-1676368800-1676372400@historic.pratsdellucanes.cat
SUMMARY:Reunió enllumenat
DESCRIPTION:
URL:https://historic.pratsdellucanes.cat/esdeveniment/reunio-enllumenat/
CATEGORIES:Agenda de l'alcalde
END:VEVENT
BEGIN:VEVENT
DTSTART;TZID=Europe/Helsinki:20230214T120000
DTEND;TZID=Europe/Helsinki:20230214T130000
DTSTAMP:20260423T012455
CREATED:20230227T093117Z
LAST-MODIFIED:20230227T093117Z
UID:49310-1676376000-1676379600@historic.pratsdellucanes.cat
SUMMARY:Reunió veïns colònia de gats
DESCRIPTION:
URL:https://historic.pratsdellucanes.cat/esdeveniment/reunio-veins-colonia-de-gats/
CATEGORIES:Agenda de l'alcalde
END:VEVENT
BEGIN:VEVENT
DTSTART;TZID=Europe/Helsinki:20230214T160000
DTEND;TZID=Europe/Helsinki:20230214T170000
DTSTAMP:20260423T012455
CREATED:20230201T074808Z
LAST-MODIFIED:20230201T074808Z
UID:49194-1676390400-1676394000@historic.pratsdellucanes.cat
SUMMARY:Reunió equip de govern
DESCRIPTION:
URL:https://historic.pratsdellucanes.cat/esdeveniment/reunio-equip-de-govern-393/
CATEGORIES:Agenda de l'alcalde
END:VEVENT
END:VCALENDAR