BEGIN:VCALENDAR
VERSION:2.0
PRODID:-//Ajuntament de Prats de Lluçanès - ECPv6.14.2//NONSGML v1.0//EN
CALSCALE:GREGORIAN
METHOD:PUBLISH
X-WR-CALNAME:Ajuntament de Prats de Lluçanès
X-ORIGINAL-URL:https://historic.pratsdellucanes.cat
X-WR-CALDESC:Esdeveniments per Ajuntament de Prats de Lluçanès
REFRESH-INTERVAL;VALUE=DURATION:PT1H
X-Robots-Tag:noindex
X-PUBLISHED-TTL:PT1H
BEGIN:VTIMEZONE
TZID:Europe/Helsinki
BEGIN:DAYLIGHT
TZOFFSETFROM:+0200
TZOFFSETTO:+0300
TZNAME:EEST
DTSTART:20230326T010000
END:DAYLIGHT
BEGIN:STANDARD
TZOFFSETFROM:+0300
TZOFFSETTO:+0200
TZNAME:EET
DTSTART:20231029T010000
END:STANDARD
END:VTIMEZONE
BEGIN:VEVENT
DTSTART;VALUE=DATE:20230308
DTEND;VALUE=DATE:20230309
DTSTAMP:20260423T012453
CREATED:20230227T094907Z
LAST-MODIFIED:20230227T094907Z
UID:49342-1678233600-1678319999@historic.pratsdellucanes.cat
SUMMARY:Actes del 8M
DESCRIPTION:
URL:https://historic.pratsdellucanes.cat/esdeveniment/actes-del-8m/
CATEGORIES:Agenda,Agenda de l'alcalde,Agenda política
ATTACH;FMTTYPE=image/jpeg:https://historic.pratsdellucanes.cat/wp-content/uploads/2023/02/CARTELL_8M_2023_PRATS_XXSS-1.jpg
END:VEVENT
BEGIN:VEVENT
DTSTART;VALUE=DATE:20230308
DTEND;VALUE=DATE:20230309
DTSTAMP:20260423T012453
CREATED:20240214T161300Z
LAST-MODIFIED:20240214T161300Z
UID:51658-1678233600-1678319999@historic.pratsdellucanes.cat
SUMMARY:Reunió arbrat
DESCRIPTION:
URL:https://historic.pratsdellucanes.cat/esdeveniment/reunio-arbrat/
CATEGORIES:Agenda de l'alcalde
END:VEVENT
BEGIN:VEVENT
DTSTART;VALUE=DATE:20230308
DTEND;VALUE=DATE:20230309
DTSTAMP:20260423T012453
CREATED:20240214T161322Z
LAST-MODIFIED:20240214T161322Z
UID:51660-1678233600-1678319999@historic.pratsdellucanes.cat
SUMMARY:Junta de govern local
DESCRIPTION:
URL:https://historic.pratsdellucanes.cat/esdeveniment/junta-de-govern-local-21/
CATEGORIES:Agenda de l'alcalde
END:VEVENT
BEGIN:VEVENT
DTSTART;VALUE=DATE:20230308
DTEND;VALUE=DATE:20230309
DTSTAMP:20260423T012453
CREATED:20240214T161433Z
LAST-MODIFIED:20240214T161433Z
UID:51662-1678233600-1678319999@historic.pratsdellucanes.cat
SUMMARY:Reunió Endesa
DESCRIPTION:
URL:https://historic.pratsdellucanes.cat/esdeveniment/reunio-endesa-5/
CATEGORIES:Agenda de l'alcalde
END:VEVENT
BEGIN:VEVENT
DTSTART;VALUE=DATE:20230308
DTEND;VALUE=DATE:20230309
DTSTAMP:20260423T012453
CREATED:20240214T161458Z
LAST-MODIFIED:20240214T161458Z
UID:51664-1678233600-1678319999@historic.pratsdellucanes.cat
SUMMARY:Lectura manifest 8M
DESCRIPTION:
URL:https://historic.pratsdellucanes.cat/esdeveniment/lectura-manifest-8m/
CATEGORIES:Agenda de l'alcalde
END:VEVENT
BEGIN:VEVENT
DTSTART;VALUE=DATE:20230308
DTEND;VALUE=DATE:20230309
DTSTAMP:20260423T012453
CREATED:20240214T161522Z
LAST-MODIFIED:20240214T161522Z
UID:51666-1678233600-1678319999@historic.pratsdellucanes.cat
SUMMARY:Mancomunitat aigües Merlès
DESCRIPTION:
URL:https://historic.pratsdellucanes.cat/esdeveniment/mancomunitat-aigues-merles-2/
CATEGORIES:Agenda de l'alcalde
END:VEVENT
BEGIN:VEVENT
DTSTART;TZID=Europe/Helsinki:20230308T090000
DTEND;TZID=Europe/Helsinki:20230308T100000
DTSTAMP:20260423T012453
CREATED:20230227T094638Z
LAST-MODIFIED:20230227T094638Z
UID:49340-1678266000-1678269600@historic.pratsdellucanes.cat
SUMMARY:Reunió Endesa
DESCRIPTION:
URL:https://historic.pratsdellucanes.cat/esdeveniment/reunio-endesa-4/
CATEGORIES:Agenda de l'alcalde
END:VEVENT
END:VCALENDAR