BEGIN:VCALENDAR
VERSION:2.0
PRODID:-//Ajuntament de Prats de Lluçanès - ECPv6.14.2//NONSGML v1.0//EN
CALSCALE:GREGORIAN
METHOD:PUBLISH
X-ORIGINAL-URL:https://historic.pratsdellucanes.cat
X-WR-CALDESC:Esdeveniments per Ajuntament de Prats de Lluçanès
REFRESH-INTERVAL;VALUE=DURATION:PT1H
X-Robots-Tag:noindex
X-PUBLISHED-TTL:PT1H
BEGIN:VTIMEZONE
TZID:Europe/Helsinki
BEGIN:DAYLIGHT
TZOFFSETFROM:+0200
TZOFFSETTO:+0300
TZNAME:EEST
DTSTART:20230326T010000
END:DAYLIGHT
BEGIN:STANDARD
TZOFFSETFROM:+0300
TZOFFSETTO:+0200
TZNAME:EET
DTSTART:20231029T010000
END:STANDARD
END:VTIMEZONE
BEGIN:VEVENT
DTSTART;TZID=Europe/Helsinki:20230313T160000
DTEND;TZID=Europe/Helsinki:20230313T170000
DTSTAMP:20260423T012558
CREATED:20230308T094708Z
LAST-MODIFIED:20230308T094708Z
UID:49365-1678723200-1678726800@historic.pratsdellucanes.cat
SUMMARY:Sessió informativa del projecte de l'hort comunitari
DESCRIPTION:
URL:https://historic.pratsdellucanes.cat/esdeveniment/sessio-informativa-del-projecte-de-lhort-comunitari/
CATEGORIES:Agenda
ATTACH;FMTTYPE=image/jpeg:https://historic.pratsdellucanes.cat/wp-content/uploads/2023/03/CARTELL_HORT_SOCIAL-1.jpg
END:VEVENT
END:VCALENDAR