BEGIN:VCALENDAR
VERSION:2.0
PRODID:-//Ajuntament de Prats de Lluçanès - ECPv6.14.2//NONSGML v1.0//EN
CALSCALE:GREGORIAN
METHOD:PUBLISH
X-WR-CALNAME:Ajuntament de Prats de Lluçanès
X-ORIGINAL-URL:https://historic.pratsdellucanes.cat
X-WR-CALDESC:Esdeveniments per Ajuntament de Prats de Lluçanès
REFRESH-INTERVAL;VALUE=DURATION:PT1H
X-Robots-Tag:noindex
X-PUBLISHED-TTL:PT1H
BEGIN:VTIMEZONE
TZID:Europe/Helsinki
BEGIN:DAYLIGHT
TZOFFSETFROM:+0200
TZOFFSETTO:+0300
TZNAME:EEST
DTSTART:20230326T010000
END:DAYLIGHT
BEGIN:STANDARD
TZOFFSETFROM:+0300
TZOFFSETTO:+0200
TZNAME:EET
DTSTART:20231029T010000
END:STANDARD
END:VTIMEZONE
BEGIN:VEVENT
DTSTART;VALUE=DATE:20230316
DTEND;VALUE=DATE:20230317
DTSTAMP:20260423T012442
CREATED:20240214T162010Z
LAST-MODIFIED:20240214T162010Z
UID:51686-1678924800-1679011199@historic.pratsdellucanes.cat
SUMMARY:Reunió Torrenteres
DESCRIPTION:
URL:https://historic.pratsdellucanes.cat/esdeveniment/reunio-torrenteres-2/
CATEGORIES:Agenda de l'alcalde
END:VEVENT
BEGIN:VEVENT
DTSTART;VALUE=DATE:20230316
DTEND;VALUE=DATE:20230317
DTSTAMP:20260423T012442
CREATED:20240214T162032Z
LAST-MODIFIED:20240214T162032Z
UID:51688-1678924800-1679011199@historic.pratsdellucanes.cat
SUMMARY:Caminada Prats
DESCRIPTION:
URL:https://historic.pratsdellucanes.cat/esdeveniment/caminada-prats/
CATEGORIES:Agenda de l'alcalde
END:VEVENT
BEGIN:VEVENT
DTSTART;VALUE=DATE:20230316
DTEND;VALUE=DATE:20230317
DTSTAMP:20260423T012442
CREATED:20240214T162055Z
LAST-MODIFIED:20240214T162055Z
UID:51690-1678924800-1679011199@historic.pratsdellucanes.cat
SUMMARY:Reunió Comissió de Festes
DESCRIPTION:
URL:https://historic.pratsdellucanes.cat/esdeveniment/reunio-comissio-de-festes-5/
CATEGORIES:Agenda de l'alcalde
END:VEVENT
BEGIN:VEVENT
DTSTART;TZID=Europe/Helsinki:20230316T090000
DTEND;TZID=Europe/Helsinki:20230316T100000
DTSTAMP:20260423T012442
CREATED:20230227T095509Z
LAST-MODIFIED:20230227T095509Z
UID:49349-1678957200-1678960800@historic.pratsdellucanes.cat
SUMMARY:Caminada Diputació
DESCRIPTION:
URL:https://historic.pratsdellucanes.cat/esdeveniment/caminada-diputacio/
CATEGORIES:Agenda de l'alcalde
END:VEVENT
BEGIN:VEVENT
DTSTART;TZID=Europe/Helsinki:20230316T090000
DTEND;TZID=Europe/Helsinki:20230316T153000
DTSTAMP:20260423T012442
CREATED:20230309T171127Z
LAST-MODIFIED:20230309T171127Z
UID:49374-1678957200-1678980600@historic.pratsdellucanes.cat
SUMMARY:Cicle de passejades de marxa nòrdica per a la gent gran
DESCRIPTION:
URL:https://historic.pratsdellucanes.cat/esdeveniment/cicle-de-passejades-de-marxa-nordica-per-a-la-gent-gran/
CATEGORIES:Agenda
END:VEVENT
END:VCALENDAR