BEGIN:VCALENDAR
VERSION:2.0
PRODID:-//Ajuntament de Prats de Lluçanès - ECPv6.14.2//NONSGML v1.0//EN
CALSCALE:GREGORIAN
METHOD:PUBLISH
X-WR-CALNAME:Ajuntament de Prats de Lluçanès
X-ORIGINAL-URL:https://historic.pratsdellucanes.cat
X-WR-CALDESC:Esdeveniments per Ajuntament de Prats de Lluçanès
REFRESH-INTERVAL;VALUE=DURATION:PT1H
X-Robots-Tag:noindex
X-PUBLISHED-TTL:PT1H
BEGIN:VTIMEZONE
TZID:Europe/Helsinki
BEGIN:DAYLIGHT
TZOFFSETFROM:+0200
TZOFFSETTO:+0300
TZNAME:EEST
DTSTART:20230326T010000
END:DAYLIGHT
BEGIN:STANDARD
TZOFFSETFROM:+0300
TZOFFSETTO:+0200
TZNAME:EET
DTSTART:20231029T010000
END:STANDARD
END:VTIMEZONE
BEGIN:VEVENT
DTSTART;VALUE=DATE:20230317
DTEND;VALUE=DATE:20230318
DTSTAMP:20260423T012500
CREATED:20240214T162130Z
LAST-MODIFIED:20240214T162130Z
UID:51692-1679011200-1679097599@historic.pratsdellucanes.cat
SUMMARY:Reunió mobilitat escolar
DESCRIPTION:
URL:https://historic.pratsdellucanes.cat/esdeveniment/reunio-mobilitat-escolar/
CATEGORIES:Agenda de l'alcalde
END:VEVENT
BEGIN:VEVENT
DTSTART;VALUE=DATE:20230317
DTEND;VALUE=DATE:20230318
DTSTAMP:20260423T012500
CREATED:20240214T162151Z
LAST-MODIFIED:20240214T162151Z
UID:51694-1679011200-1679097599@historic.pratsdellucanes.cat
SUMMARY:Jutjat de Vic
DESCRIPTION:
URL:https://historic.pratsdellucanes.cat/esdeveniment/jutjat-de-vic/
CATEGORIES:Agenda de l'alcalde
END:VEVENT
BEGIN:VEVENT
DTSTART;TZID=Europe/Helsinki:20230317T100000
DTEND;TZID=Europe/Helsinki:20230317T120000
DTSTAMP:20260423T012500
CREATED:20230227T095537Z
LAST-MODIFIED:20230227T095537Z
UID:49351-1679047200-1679054400@historic.pratsdellucanes.cat
SUMMARY:Jutjat Vic
DESCRIPTION:
URL:https://historic.pratsdellucanes.cat/esdeveniment/jutjat-vic/
CATEGORIES:Agenda de l'alcalde
END:VEVENT
END:VCALENDAR