BEGIN:VCALENDAR
VERSION:2.0
PRODID:-//Ajuntament de Prats de Lluçanès - ECPv6.14.2//NONSGML v1.0//EN
CALSCALE:GREGORIAN
METHOD:PUBLISH
X-ORIGINAL-URL:https://historic.pratsdellucanes.cat
X-WR-CALDESC:Esdeveniments per Ajuntament de Prats de Lluçanès
REFRESH-INTERVAL;VALUE=DURATION:PT1H
X-Robots-Tag:noindex
X-PUBLISHED-TTL:PT1H
BEGIN:VTIMEZONE
TZID:Europe/Helsinki
BEGIN:DAYLIGHT
TZOFFSETFROM:+0200
TZOFFSETTO:+0300
TZNAME:EEST
DTSTART:20230326T010000
END:DAYLIGHT
BEGIN:STANDARD
TZOFFSETFROM:+0300
TZOFFSETTO:+0200
TZNAME:EET
DTSTART:20231029T010000
END:STANDARD
END:VTIMEZONE
BEGIN:VEVENT
DTSTART;VALUE=DATE:20230322
DTEND;VALUE=DATE:20230323
DTSTAMP:20260423T012602
CREATED:20240214T162308Z
LAST-MODIFIED:20240214T162308Z
UID:51700-1679443200-1679529599@historic.pratsdellucanes.cat
SUMMARY:Reunió concessionari zona esportiva
DESCRIPTION:
URL:https://historic.pratsdellucanes.cat/esdeveniment/reunio-concessionari-zona-esportiva-6/
CATEGORIES:Agenda de l'alcalde
END:VEVENT
BEGIN:VEVENT
DTSTART;VALUE=DATE:20230322
DTEND;VALUE=DATE:20230323
DTSTAMP:20260423T012602
CREATED:20240214T162333Z
LAST-MODIFIED:20240214T162333Z
UID:51702-1679443200-1679529599@historic.pratsdellucanes.cat
SUMMARY:Sortida Volta Catalunya Olost
DESCRIPTION:
URL:https://historic.pratsdellucanes.cat/esdeveniment/sortida-volta-catalunya-olost/
CATEGORIES:Agenda de l'alcalde
END:VEVENT
BEGIN:VEVENT
DTSTART;VALUE=DATE:20230322
DTEND;VALUE=DATE:20230323
DTSTAMP:20260423T012602
CREATED:20240214T162357Z
LAST-MODIFIED:20240214T162357Z
UID:51704-1679443200-1679529599@historic.pratsdellucanes.cat
SUMMARY:Reunió arquitecte
DESCRIPTION:
URL:https://historic.pratsdellucanes.cat/esdeveniment/reunio-arquitecte-4/
CATEGORIES:Agenda de l'alcalde
END:VEVENT
BEGIN:VEVENT
DTSTART;VALUE=DATE:20230322
DTEND;VALUE=DATE:20230323
DTSTAMP:20260423T012602
CREATED:20240214T162427Z
LAST-MODIFIED:20240214T162427Z
UID:51706-1679443200-1679529599@historic.pratsdellucanes.cat
SUMMARY:Junta de govern local
DESCRIPTION:
URL:https://historic.pratsdellucanes.cat/esdeveniment/junta-de-govern-local-22/
CATEGORIES:Agenda de l'alcalde
END:VEVENT
BEGIN:VEVENT
DTSTART;VALUE=DATE:20230322
DTEND;VALUE=DATE:20230323
DTSTAMP:20260423T012602
CREATED:20240214T162449Z
LAST-MODIFIED:20240214T162449Z
UID:51708-1679443200-1679529599@historic.pratsdellucanes.cat
SUMMARY:Reunió Benito
DESCRIPTION:
URL:https://historic.pratsdellucanes.cat/esdeveniment/reunio-benito/
CATEGORIES:Agenda de l'alcalde
END:VEVENT
BEGIN:VEVENT
DTSTART;TZID=Europe/Helsinki:20230322T090000
DTEND;TZID=Europe/Helsinki:20230322T100000
DTSTAMP:20260423T012602
CREATED:20231214T123241Z
LAST-MODIFIED:20231214T123241Z
UID:50833-1679475600-1679479200@historic.pratsdellucanes.cat
SUMMARY:Reunió conseccionari zona esportiva
DESCRIPTION:
URL:https://historic.pratsdellucanes.cat/esdeveniment/reunio-conseccionari-zona-esportiva/
END:VEVENT
END:VCALENDAR