BEGIN:VCALENDAR
VERSION:2.0
PRODID:-//Ajuntament de Prats de Lluçanès - ECPv6.14.2//NONSGML v1.0//EN
CALSCALE:GREGORIAN
METHOD:PUBLISH
X-ORIGINAL-URL:https://historic.pratsdellucanes.cat
X-WR-CALDESC:Esdeveniments per Ajuntament de Prats de Lluçanès
REFRESH-INTERVAL;VALUE=DURATION:PT1H
X-Robots-Tag:noindex
X-PUBLISHED-TTL:PT1H
BEGIN:VTIMEZONE
TZID:Europe/Helsinki
BEGIN:DAYLIGHT
TZOFFSETFROM:+0200
TZOFFSETTO:+0300
TZNAME:EEST
DTSTART:20230326T010000
END:DAYLIGHT
BEGIN:STANDARD
TZOFFSETFROM:+0300
TZOFFSETTO:+0200
TZNAME:EET
DTSTART:20231029T010000
END:STANDARD
END:VTIMEZONE
BEGIN:VEVENT
DTSTART;VALUE=DATE:20230324
DTEND;VALUE=DATE:20230325
DTSTAMP:20260423T012612
CREATED:20240214T162602Z
LAST-MODIFIED:20240214T162602Z
UID:51714-1679616000-1679702399@historic.pratsdellucanes.cat
SUMMARY:Reunió Diba colònia gats
DESCRIPTION:
URL:https://historic.pratsdellucanes.cat/esdeveniment/reunio-diba-colonia-gats/
CATEGORIES:Agenda de l'alcalde
END:VEVENT
BEGIN:VEVENT
DTSTART;TZID=Europe/Helsinki:20230324T100000
DTEND;TZID=Europe/Helsinki:20230324T110000
DTSTAMP:20260423T012612
CREATED:20230227T095630Z
LAST-MODIFIED:20230227T095630Z
UID:49353-1679652000-1679655600@historic.pratsdellucanes.cat
SUMMARY:Reunió Diputació Barcelona colònies gats
DESCRIPTION:
URL:https://historic.pratsdellucanes.cat/esdeveniment/reunio-diputacio-barcelona-colonies-gats/
CATEGORIES:Agenda de l'alcalde
END:VEVENT
END:VCALENDAR