BEGIN:VCALENDAR
VERSION:2.0
PRODID:-//Ajuntament de Prats de Lluçanès - ECPv6.14.2//NONSGML v1.0//EN
CALSCALE:GREGORIAN
METHOD:PUBLISH
X-WR-CALNAME:Ajuntament de Prats de Lluçanès
X-ORIGINAL-URL:https://historic.pratsdellucanes.cat
X-WR-CALDESC:Esdeveniments per Ajuntament de Prats de Lluçanès
REFRESH-INTERVAL;VALUE=DURATION:PT1H
X-Robots-Tag:noindex
X-PUBLISHED-TTL:PT1H
BEGIN:VTIMEZONE
TZID:Europe/Helsinki
BEGIN:DAYLIGHT
TZOFFSETFROM:+0200
TZOFFSETTO:+0300
TZNAME:EEST
DTSTART:20230326T010000
END:DAYLIGHT
BEGIN:STANDARD
TZOFFSETFROM:+0300
TZOFFSETTO:+0200
TZNAME:EET
DTSTART:20231029T010000
END:STANDARD
END:VTIMEZONE
BEGIN:VEVENT
DTSTART;VALUE=DATE:20230505
DTEND;VALUE=DATE:20230506
DTSTAMP:20260422T135035
CREATED:20230418T101315Z
LAST-MODIFIED:20230418T101315Z
UID:49652-1683244800-1683331199@historic.pratsdellucanes.cat
SUMMARY:Portes obertes escola bressol La Pitota
DESCRIPTION:
URL:https://historic.pratsdellucanes.cat/esdeveniment/portes-obertes-escola-bressol-la-pitota/
CATEGORIES:Agenda
ATTACH;FMTTYPE=image/jpeg:https://historic.pratsdellucanes.cat/wp-content/uploads/2023/04/CARTELL_JPO_LAPITOTA_XXSS.jpg
END:VEVENT
BEGIN:VEVENT
DTSTART;VALUE=DATE:20230505
DTEND;VALUE=DATE:20230506
DTSTAMP:20260422T135035
CREATED:20230425T085831Z
LAST-MODIFIED:20230425T085946Z
UID:49670-1683244800-1683331199@historic.pratsdellucanes.cat
SUMMARY:Passejades "El Lluçanès cap als 100"
DESCRIPTION:
URL:https://historic.pratsdellucanes.cat/esdeveniment/passejades-el-llucanes-cap-als-100/
CATEGORIES:Agenda
ATTACH;FMTTYPE=image/jpeg:https://historic.pratsdellucanes.cat/wp-content/uploads/2023/04/Prats_PRIMAVERA23.jpg
END:VEVENT
BEGIN:VEVENT
DTSTART;VALUE=DATE:20230505
DTEND;VALUE=DATE:20230506
DTSTAMP:20260422T135035
CREATED:20240221T115841Z
LAST-MODIFIED:20240221T115841Z
UID:51844-1683244800-1683331199@historic.pratsdellucanes.cat
SUMMARY:Reunió Consorci del Lluçanès
DESCRIPTION:
URL:https://historic.pratsdellucanes.cat/esdeveniment/reunio-consorci-del-llucanes-7/
CATEGORIES:Agenda de l'alcalde
END:VEVENT
BEGIN:VEVENT
DTSTART;VALUE=DATE:20230505
DTEND;VALUE=DATE:20230506
DTSTAMP:20260422T135035
CREATED:20240221T120004Z
LAST-MODIFIED:20240221T120004Z
UID:51846-1683244800-1683331199@historic.pratsdellucanes.cat
SUMMARY:Reunió veïns poble
DESCRIPTION:
URL:https://historic.pratsdellucanes.cat/esdeveniment/reunio-veins-poble-2/
CATEGORIES:Agenda de l'alcalde
END:VEVENT
BEGIN:VEVENT
DTSTART;VALUE=DATE:20230505
DTEND;VALUE=DATE:20230506
DTSTAMP:20260422T135035
CREATED:20240221T120102Z
LAST-MODIFIED:20240221T120102Z
UID:51848-1683244800-1683331199@historic.pratsdellucanes.cat
SUMMARY:Entrevista La COPE
DESCRIPTION:
URL:https://historic.pratsdellucanes.cat/esdeveniment/entrevista-la-cope/
CATEGORIES:Agenda de l'alcalde
END:VEVENT
BEGIN:VEVENT
DTSTART;VALUE=DATE:20230505
DTEND;VALUE=DATE:20230506
DTSTAMP:20260422T135035
CREATED:20240221T120208Z
LAST-MODIFIED:20240221T120208Z
UID:51850-1683244800-1683331199@historic.pratsdellucanes.cat
SUMMARY:Entrevista El 9 TV
DESCRIPTION:
URL:https://historic.pratsdellucanes.cat/esdeveniment/entrevista-el-9-tv-4/
CATEGORIES:Agenda de l'alcalde
END:VEVENT
END:VCALENDAR