BEGIN:VCALENDAR
VERSION:2.0
PRODID:-//Ajuntament de Prats de Lluçanès - ECPv6.14.2//NONSGML v1.0//EN
CALSCALE:GREGORIAN
METHOD:PUBLISH
X-WR-CALNAME:Ajuntament de Prats de Lluçanès
X-ORIGINAL-URL:https://historic.pratsdellucanes.cat
X-WR-CALDESC:Esdeveniments per Ajuntament de Prats de Lluçanès
REFRESH-INTERVAL;VALUE=DURATION:PT1H
X-Robots-Tag:noindex
X-PUBLISHED-TTL:PT1H
BEGIN:VTIMEZONE
TZID:Europe/Helsinki
BEGIN:DAYLIGHT
TZOFFSETFROM:+0200
TZOFFSETTO:+0300
TZNAME:EEST
DTSTART:20230326T010000
END:DAYLIGHT
BEGIN:STANDARD
TZOFFSETFROM:+0300
TZOFFSETTO:+0200
TZNAME:EET
DTSTART:20231029T010000
END:STANDARD
END:VTIMEZONE
BEGIN:VEVENT
DTSTART;TZID=Europe/Helsinki:20230522T080000
DTEND;TZID=Europe/Helsinki:20230603T170000
DTSTAMP:20260422T132652
CREATED:20230518T132658Z
LAST-MODIFIED:20230518T132658Z
UID:49796-1684742400-1685811600@historic.pratsdellucanes.cat
SUMMARY:Setmana de la Natura
DESCRIPTION:
URL:https://historic.pratsdellucanes.cat/esdeveniment/setmana-de-la-natura-2/
CATEGORIES:Agenda
ATTACH;FMTTYPE=image/jpeg:https://historic.pratsdellucanes.cat/wp-content/uploads/2023/05/CARTELL_SETMANA_NATURA_2023.jpg
END:VEVENT
BEGIN:VEVENT
DTSTART;VALUE=DATE:20230523
DTEND;VALUE=DATE:20230524
DTSTAMP:20260422T132652
CREATED:20240221T135313Z
LAST-MODIFIED:20240221T135313Z
UID:51898-1684800000-1684886399@historic.pratsdellucanes.cat
SUMMARY:Reunió Futbol Club Pradenc
DESCRIPTION:
URL:https://historic.pratsdellucanes.cat/esdeveniment/reunio-futbol-club-pradenc-3/
CATEGORIES:Agenda de l'alcalde
END:VEVENT
BEGIN:VEVENT
DTSTART;VALUE=DATE:20230523
DTEND;VALUE=DATE:20230524
DTSTAMP:20260422T132652
CREATED:20240221T135355Z
LAST-MODIFIED:20240221T135414Z
UID:51900-1684800000-1684886399@historic.pratsdellucanes.cat
SUMMARY:Reunió equip de govern
DESCRIPTION:
URL:https://historic.pratsdellucanes.cat/esdeveniment/reunio-equip-de-govern-417/
CATEGORIES:Agenda de l'alcalde
END:VEVENT
END:VCALENDAR