BEGIN:VCALENDAR
VERSION:2.0
PRODID:-//Ajuntament de Prats de Lluçanès - ECPv6.14.2//NONSGML v1.0//EN
CALSCALE:GREGORIAN
METHOD:PUBLISH
X-ORIGINAL-URL:https://historic.pratsdellucanes.cat
X-WR-CALDESC:Esdeveniments per Ajuntament de Prats de Lluçanès
REFRESH-INTERVAL;VALUE=DURATION:PT1H
X-Robots-Tag:noindex
X-PUBLISHED-TTL:PT1H
BEGIN:VTIMEZONE
TZID:Europe/Helsinki
BEGIN:DAYLIGHT
TZOFFSETFROM:+0200
TZOFFSETTO:+0300
TZNAME:EEST
DTSTART:20230326T010000
END:DAYLIGHT
BEGIN:STANDARD
TZOFFSETFROM:+0300
TZOFFSETTO:+0200
TZNAME:EET
DTSTART:20231029T010000
END:STANDARD
END:VTIMEZONE
BEGIN:VEVENT
DTSTART;VALUE=DATE:20230721
DTEND;VALUE=DATE:20230724
DTSTAMP:20260422T053443
CREATED:20230707T081907Z
LAST-MODIFIED:20230707T081907Z
UID:50120-1689897600-1690156799@historic.pratsdellucanes.cat
SUMMARY:Fira de Sant Jaume
DESCRIPTION:
URL:https://historic.pratsdellucanes.cat/esdeveniment/fira-de-sant-jaume-6/
CATEGORIES:Agenda
ATTACH;FMTTYPE=image/jpeg:https://historic.pratsdellucanes.cat/wp-content/uploads/2023/07/PROGRAMACIO_FIRA_SANT_JAUME_2023_XXSS-01.jpg
END:VEVENT
BEGIN:VEVENT
DTSTART;VALUE=DATE:20230721
DTEND;VALUE=DATE:20230722
DTSTAMP:20260422T053443
CREATED:20240222T093508Z
LAST-MODIFIED:20240222T093508Z
UID:52025-1689897600-1689983999@historic.pratsdellucanes.cat
SUMMARY:Acte lliurament premi Dr. Grau
DESCRIPTION:
URL:https://historic.pratsdellucanes.cat/esdeveniment/acte-lliurament-premi-dr-grau/
CATEGORIES:Agenda de l'alcalde
END:VEVENT
BEGIN:VEVENT
DTSTART;TZID=Europe/Helsinki:20230721T210000
DTEND;TZID=Europe/Helsinki:20230721T230000
DTSTAMP:20260422T053443
CREATED:20230706T073653Z
LAST-MODIFIED:20230706T073653Z
UID:50100-1689973200-1689980400@historic.pratsdellucanes.cat
SUMMARY:Lliurament del premi de la Fundació Dr.Grau i concert
DESCRIPTION:
URL:https://historic.pratsdellucanes.cat/esdeveniment/lliurament-del-premi-de-la-fundacio-dr-grau-i-concert/
CATEGORIES:Agenda
ATTACH;FMTTYPE=image/jpeg:https://historic.pratsdellucanes.cat/wp-content/uploads/2023/07/IMG-20230705-WA0005.jpg
END:VEVENT
END:VCALENDAR