BEGIN:VCALENDAR
VERSION:2.0
PRODID:-//Ajuntament de Prats de Lluçanès - ECPv6.14.2//NONSGML v1.0//EN
CALSCALE:GREGORIAN
METHOD:PUBLISH
X-ORIGINAL-URL:https://historic.pratsdellucanes.cat
X-WR-CALDESC:Esdeveniments per Ajuntament de Prats de Lluçanès
REFRESH-INTERVAL;VALUE=DURATION:PT1H
X-Robots-Tag:noindex
X-PUBLISHED-TTL:PT1H
BEGIN:VTIMEZONE
TZID:Europe/Helsinki
BEGIN:DAYLIGHT
TZOFFSETFROM:+0200
TZOFFSETTO:+0300
TZNAME:EEST
DTSTART:20230326T010000
END:DAYLIGHT
BEGIN:STANDARD
TZOFFSETFROM:+0300
TZOFFSETTO:+0200
TZNAME:EET
DTSTART:20231029T010000
END:STANDARD
END:VTIMEZONE
BEGIN:VEVENT
DTSTART;TZID=Europe/Helsinki:20230820T100000
DTEND;TZID=Europe/Helsinki:20230820T140000
DTSTAMP:20260421T125505
CREATED:20230727T095130Z
LAST-MODIFIED:20230727T095150Z
UID:50227-1692525600-1692540000@historic.pratsdellucanes.cat
SUMMARY:Campanya de donació de sang i plasma
DESCRIPTION:
URL:https://historic.pratsdellucanes.cat/esdeveniment/campanya-de-donacio-de-sang-i-plasma-2/
CATEGORIES:Agenda
ATTACH;FMTTYPE=image/jpeg:https://historic.pratsdellucanes.cat/wp-content/uploads/2023/07/Imatge_Agost2023_PratsLluçanès.jpg
END:VEVENT
END:VCALENDAR