BEGIN:VCALENDAR
VERSION:2.0
PRODID:-//Ajuntament de Prats de Lluçanès - ECPv6.14.2//NONSGML v1.0//EN
CALSCALE:GREGORIAN
METHOD:PUBLISH
X-ORIGINAL-URL:https://historic.pratsdellucanes.cat
X-WR-CALDESC:Esdeveniments per Ajuntament de Prats de Lluçanès
REFRESH-INTERVAL;VALUE=DURATION:PT1H
X-Robots-Tag:noindex
X-PUBLISHED-TTL:PT1H
BEGIN:VTIMEZONE
TZID:Europe/Helsinki
BEGIN:DAYLIGHT
TZOFFSETFROM:+0200
TZOFFSETTO:+0300
TZNAME:EEST
DTSTART:20230326T010000
END:DAYLIGHT
BEGIN:STANDARD
TZOFFSETFROM:+0300
TZOFFSETTO:+0200
TZNAME:EET
DTSTART:20231029T010000
END:STANDARD
END:VTIMEZONE
BEGIN:VEVENT
DTSTART;TZID=Europe/Helsinki:20230901T200000
DTEND;TZID=Europe/Helsinki:20230901T200000
DTSTAMP:20260421T184045
CREATED:20230818T082522Z
LAST-MODIFIED:20230818T082522Z
UID:50294-1693598400-1693598400@historic.pratsdellucanes.cat
SUMMARY:Reunió "El nostre Orient llunyà"
DESCRIPTION:
URL:https://historic.pratsdellucanes.cat/esdeveniment/reunio-el-nostre-orient-llunya/
CATEGORIES:Agenda
ATTACH;FMTTYPE=image/png:https://historic.pratsdellucanes.cat/wp-content/uploads/2023/08/El-nostre-Orient-OK.png
END:VEVENT
END:VCALENDAR