BEGIN:VCALENDAR
VERSION:2.0
PRODID:-//Ajuntament de Prats de Lluçanès - ECPv6.14.2//NONSGML v1.0//EN
CALSCALE:GREGORIAN
METHOD:PUBLISH
X-ORIGINAL-URL:https://historic.pratsdellucanes.cat
X-WR-CALDESC:Esdeveniments per Ajuntament de Prats de Lluçanès
REFRESH-INTERVAL;VALUE=DURATION:PT1H
X-Robots-Tag:noindex
X-PUBLISHED-TTL:PT1H
BEGIN:VTIMEZONE
TZID:Europe/Helsinki
BEGIN:DAYLIGHT
TZOFFSETFROM:+0200
TZOFFSETTO:+0300
TZNAME:EEST
DTSTART:20230326T010000
END:DAYLIGHT
BEGIN:STANDARD
TZOFFSETFROM:+0300
TZOFFSETTO:+0200
TZNAME:EET
DTSTART:20231029T010000
END:STANDARD
END:VTIMEZONE
BEGIN:VEVENT
DTSTART;VALUE=DATE:20230911
DTEND;VALUE=DATE:20230912
DTSTAMP:20260421T184040
CREATED:20240213T172349Z
LAST-MODIFIED:20240213T172349Z
UID:51557-1694390400-1694476799@historic.pratsdellucanes.cat
SUMMARY:Diada Nacional comarcal Perafita
DESCRIPTION:
URL:https://historic.pratsdellucanes.cat/esdeveniment/diada-nacional-comarcal-perafita/
CATEGORIES:Agenda de l'alcalde
END:VEVENT
BEGIN:VEVENT
DTSTART;VALUE=DATE:20230911
DTEND;VALUE=DATE:20230912
DTSTAMP:20260421T184040
CREATED:20240213T172411Z
LAST-MODIFIED:20240213T172411Z
UID:51559-1694390400-1694476799@historic.pratsdellucanes.cat
SUMMARY:Diada Nacional Prats
DESCRIPTION:
URL:https://historic.pratsdellucanes.cat/esdeveniment/diada-nacional-prats/
CATEGORIES:Agenda de l'alcalde
END:VEVENT
BEGIN:VEVENT
DTSTART;TZID=Europe/Helsinki:20230911T123000
DTEND;TZID=Europe/Helsinki:20230911T133000
DTSTAMP:20260421T184040
CREATED:20230905T073431Z
LAST-MODIFIED:20230905T073431Z
UID:50330-1694435400-1694439000@historic.pratsdellucanes.cat
SUMMARY:Diada Nacional de Catalunya
DESCRIPTION:
URL:https://historic.pratsdellucanes.cat/esdeveniment/diada-nacional-de-catalunya-2/
CATEGORIES:Agenda
ATTACH;FMTTYPE=image/jpeg:https://historic.pratsdellucanes.cat/wp-content/uploads/2023/09/CARTELL_DIADA_11S_2023-1.jpg
END:VEVENT
END:VCALENDAR