BEGIN:VCALENDAR
VERSION:2.0
PRODID:-//Ajuntament de Prats de Lluçanès - ECPv6.14.2//NONSGML v1.0//EN
CALSCALE:GREGORIAN
METHOD:PUBLISH
X-ORIGINAL-URL:https://historic.pratsdellucanes.cat
X-WR-CALDESC:Esdeveniments per Ajuntament de Prats de Lluçanès
REFRESH-INTERVAL;VALUE=DURATION:PT1H
X-Robots-Tag:noindex
X-PUBLISHED-TTL:PT1H
BEGIN:VTIMEZONE
TZID:Europe/Helsinki
BEGIN:DAYLIGHT
TZOFFSETFROM:+0200
TZOFFSETTO:+0300
TZNAME:EEST
DTSTART:20230326T010000
END:DAYLIGHT
BEGIN:STANDARD
TZOFFSETFROM:+0300
TZOFFSETTO:+0200
TZNAME:EET
DTSTART:20231029T010000
END:STANDARD
END:VTIMEZONE
BEGIN:VEVENT
DTSTART;TZID=Europe/Helsinki:20230916T133000
DTEND;TZID=Europe/Helsinki:20230916T190000
DTSTAMP:20260422T023337
CREATED:20230905T072906Z
LAST-MODIFIED:20230912T101606Z
UID:50325-1694871000-1694890800@historic.pratsdellucanes.cat
SUMMARY:2h resistència BTT Lluçanès
DESCRIPTION:
URL:https://historic.pratsdellucanes.cat/esdeveniment/2h-resistencia-btt-llucanes/
CATEGORIES:Agenda
ATTACH;FMTTYPE=image/jpeg:https://historic.pratsdellucanes.cat/wp-content/uploads/2023/09/IMG-20230905-WA0000-1-1.jpg
END:VEVENT
BEGIN:VEVENT
DTSTART;TZID=Europe/Helsinki:20230916T200000
DTEND;TZID=Europe/Helsinki:20230916T230000
DTSTAMP:20260422T023337
CREATED:20230907T090706Z
LAST-MODIFIED:20230907T090706Z
UID:50359-1694894400-1694905200@historic.pratsdellucanes.cat
SUMMARY:Exhibició de trial i sopar popular
DESCRIPTION:
URL:https://historic.pratsdellucanes.cat/esdeveniment/exhibicio-de-trial-i-sopar-popular/
CATEGORIES:Agenda
ATTACH;FMTTYPE=image/png:https://historic.pratsdellucanes.cat/wp-content/uploads/2023/09/organitza-3.png
END:VEVENT
END:VCALENDAR