BEGIN:VCALENDAR
VERSION:2.0
PRODID:-//Ajuntament de Prats de Lluçanès - ECPv6.14.2//NONSGML v1.0//EN
CALSCALE:GREGORIAN
METHOD:PUBLISH
X-ORIGINAL-URL:https://historic.pratsdellucanes.cat
X-WR-CALDESC:Esdeveniments per Ajuntament de Prats de Lluçanès
REFRESH-INTERVAL;VALUE=DURATION:PT1H
X-Robots-Tag:noindex
X-PUBLISHED-TTL:PT1H
BEGIN:VTIMEZONE
TZID:Europe/Helsinki
BEGIN:DAYLIGHT
TZOFFSETFROM:+0200
TZOFFSETTO:+0300
TZNAME:EEST
DTSTART:20210328T010000
END:DAYLIGHT
BEGIN:STANDARD
TZOFFSETFROM:+0300
TZOFFSETTO:+0200
TZNAME:EET
DTSTART:20211031T010000
END:STANDARD
END:VTIMEZONE
BEGIN:VTIMEZONE
TZID:Europe/Madrid
BEGIN:DAYLIGHT
TZOFFSETFROM:+0100
TZOFFSETTO:+0200
TZNAME:CEST
DTSTART:20210328T010000
END:DAYLIGHT
BEGIN:STANDARD
TZOFFSETFROM:+0200
TZOFFSETTO:+0100
TZNAME:CET
DTSTART:20211031T010000
END:STANDARD
END:VTIMEZONE
BEGIN:VEVENT
DTSTART;TZID=Europe/Helsinki:20210504T080000
DTEND;TZID=Europe/Helsinki:20210504T170000
DTSTAMP:20260425T190557
CREATED:20210504T085729Z
LAST-MODIFIED:20210504T085729Z
UID:44482-1620115200-1620147600@historic.pratsdellucanes.cat
SUMMARY:Consorci de residus Osona
DESCRIPTION:
URL:https://historic.pratsdellucanes.cat/esdeveniment/consorci-de-residus-osona/
CATEGORIES:Agenda de l'alcalde
END:VEVENT
BEGIN:VEVENT
DTSTART;TZID=Europe/Helsinki:20210504T100000
DTEND;TZID=Europe/Helsinki:20210504T110000
DTSTAMP:20260425T190557
CREATED:20210504T083652Z
LAST-MODIFIED:20210504T083652Z
UID:44464-1620122400-1620126000@historic.pratsdellucanes.cat
SUMMARY:Reunió Àgora d'opinió FUB
DESCRIPTION:
URL:https://historic.pratsdellucanes.cat/esdeveniment/reunio-agora-dopinio-fub/
CATEGORIES:Agenda de l'alcalde
END:VEVENT
BEGIN:VEVENT
DTSTART;TZID=Europe/Helsinki:20210504T110000
DTEND;TZID=Europe/Helsinki:20210504T120000
DTSTAMP:20260425T190557
CREATED:20210504T083928Z
LAST-MODIFIED:20210504T083928Z
UID:44466-1620126000-1620129600@historic.pratsdellucanes.cat
SUMMARY:Reunió Cap Mossos d’esquadra Vic
DESCRIPTION:
URL:https://historic.pratsdellucanes.cat/esdeveniment/reunio-cap-mossos-desquadra-vic/
CATEGORIES:Agenda de l'alcalde
END:VEVENT
BEGIN:VEVENT
DTSTART;TZID=Europe/Helsinki:20210504T110000
DTEND;TZID=Europe/Helsinki:20210504T120000
DTSTAMP:20260425T190557
CREATED:20210504T084542Z
LAST-MODIFIED:20210504T084542Z
UID:44471-1620126000-1620129600@historic.pratsdellucanes.cat
SUMMARY:Mesa de treballadors Ajuntament de Prats
DESCRIPTION:
URL:https://historic.pratsdellucanes.cat/esdeveniment/mesa-de-treballadors-ajuntament-de-prats/
CATEGORIES:Agenda de l'alcalde
END:VEVENT
BEGIN:VEVENT
DTSTART;TZID=Europe/Helsinki:20210504T120000
DTEND;TZID=Europe/Helsinki:20210504T143000
DTSTAMP:20260425T190557
CREATED:20210504T084731Z
LAST-MODIFIED:20210504T084745Z
UID:44473-1620129600-1620138600@historic.pratsdellucanes.cat
SUMMARY:Reunió Administració oberta
DESCRIPTION:
URL:https://historic.pratsdellucanes.cat/esdeveniment/reunio-administracio-oberta/
CATEGORIES:Agenda de l'alcalde
END:VEVENT
BEGIN:VEVENT
DTSTART;TZID=Europe/Helsinki:20210504T160000
DTEND;TZID=Europe/Helsinki:20210504T170000
DTSTAMP:20260425T190557
CREATED:20210504T084105Z
LAST-MODIFIED:20210504T084105Z
UID:44468-1620144000-1620147600@historic.pratsdellucanes.cat
SUMMARY:Reunió obres piscina municipal
DESCRIPTION:
URL:https://historic.pratsdellucanes.cat/esdeveniment/reunio-obres-piscina-municipal/
CATEGORIES:Agenda de l'alcalde
END:VEVENT
BEGIN:VEVENT
DTSTART;TZID=Europe/Madrid:20210504T200000
DTEND;TZID=Europe/Madrid:20210504T220000
DTSTAMP:20260425T190557
CREATED:20190717T201911Z
LAST-MODIFIED:20191026T104034Z
UID:32751-1620158400-1620165600@historic.pratsdellucanes.cat
SUMMARY:Reunió de govern.
DESCRIPTION:
URL:https://historic.pratsdellucanes.cat/esdeveniment/reunio-de-govern-94/
LOCATION:Ajuntament de Prats de Lluçanès\, Passeig del Lluçanès\, 08513 Prats de Lluçanès\, Barcelona\, España
CATEGORIES:Agenda de l'alcalde
END:VEVENT
BEGIN:VEVENT
DTSTART;TZID=Europe/Helsinki:20210510T170000
DTEND;TZID=Europe/Helsinki:20210510T190000
DTSTAMP:20260425T190557
CREATED:20210504T085104Z
LAST-MODIFIED:20210504T085104Z
UID:44477-1620666000-1620673200@historic.pratsdellucanes.cat
SUMMARY:Recollida Segell Infoparticipa 2020
DESCRIPTION:
URL:https://historic.pratsdellucanes.cat/esdeveniment/recollida-segell-infoparticipa-2020/
CATEGORIES:Agenda de l'alcalde
END:VEVENT
BEGIN:VEVENT
DTSTART;TZID=Europe/Madrid:20210511T200000
DTEND;TZID=Europe/Madrid:20210511T220000
DTSTAMP:20260425T190557
CREATED:20190717T201912Z
LAST-MODIFIED:20191026T104043Z
UID:32753-1620763200-1620770400@historic.pratsdellucanes.cat
SUMMARY:Reunió de govern.
DESCRIPTION:
URL:https://historic.pratsdellucanes.cat/esdeveniment/reunio-de-govern-95/
LOCATION:Ajuntament de Prats de Lluçanès\, Passeig del Lluçanès\, 08513 Prats de Lluçanès\, Barcelona\, España
CATEGORIES:Agenda de l'alcalde
END:VEVENT
BEGIN:VEVENT
DTSTART;TZID=Europe/Helsinki:20210518T100000
DTEND;TZID=Europe/Helsinki:20210518T110000
DTSTAMP:20260425T190557
CREATED:20210504T085329Z
LAST-MODIFIED:20210504T085329Z
UID:44479-1621332000-1621335600@historic.pratsdellucanes.cat
SUMMARY:Erasmus FEDAC Prats
DESCRIPTION:
URL:https://historic.pratsdellucanes.cat/esdeveniment/erasmus-fedac-prats/
CATEGORIES:Agenda de l'alcalde
END:VEVENT
BEGIN:VEVENT
DTSTART;TZID=Europe/Madrid:20210518T200000
DTEND;TZID=Europe/Madrid:20210518T220000
DTSTAMP:20260425T190557
CREATED:20190717T201912Z
LAST-MODIFIED:20191026T104118Z
UID:32755-1621368000-1621375200@historic.pratsdellucanes.cat
SUMMARY:Reunió de govern.
DESCRIPTION:
URL:https://historic.pratsdellucanes.cat/esdeveniment/reunio-de-govern-96/
LOCATION:Ajuntament de Prats de Lluçanès\, Passeig del Lluçanès\, 08513 Prats de Lluçanès\, Barcelona\, España
CATEGORIES:Agenda de l'alcalde
END:VEVENT
BEGIN:VEVENT
DTSTART;TZID=Europe/Helsinki:20210519T203000
DTEND;TZID=Europe/Helsinki:20210519T220000
DTSTAMP:20260425T190557
CREATED:20210504T090055Z
LAST-MODIFIED:20210504T090055Z
UID:44484-1621456200-1621461600@historic.pratsdellucanes.cat
SUMMARY:Ple municipal
DESCRIPTION:
URL:https://historic.pratsdellucanes.cat/esdeveniment/ple-municipal-10/
CATEGORIES:Agenda de l'alcalde
END:VEVENT
BEGIN:VEVENT
DTSTART;TZID=Europe/Helsinki:20210522T100000
DTEND;TZID=Europe/Helsinki:20210522T110000
DTSTAMP:20260425T190557
CREATED:20210504T090309Z
LAST-MODIFIED:20210504T090309Z
UID:44486-1621677600-1621681200@historic.pratsdellucanes.cat
SUMMARY:Visita obres monestir de Lluçà
DESCRIPTION:
URL:https://historic.pratsdellucanes.cat/esdeveniment/visita-obres-monestir-de-lluca/
CATEGORIES:Agenda de l'alcalde
END:VEVENT
BEGIN:VEVENT
DTSTART;TZID=Europe/Madrid:20210525T200000
DTEND;TZID=Europe/Madrid:20210525T220000
DTSTAMP:20260425T190557
CREATED:20190717T201912Z
LAST-MODIFIED:20191026T104125Z
UID:32757-1621972800-1621980000@historic.pratsdellucanes.cat
SUMMARY:Reunió de govern.
DESCRIPTION:
URL:https://historic.pratsdellucanes.cat/esdeveniment/reunio-de-govern-97/
LOCATION:Ajuntament de Prats de Lluçanès\, Passeig del Lluçanès\, 08513 Prats de Lluçanès\, Barcelona\, España
CATEGORIES:Agenda de l'alcalde
END:VEVENT
END:VCALENDAR