BEGIN:VCALENDAR
VERSION:2.0
PRODID:-//Ajuntament de Prats de Lluçanès - ECPv6.14.2//NONSGML v1.0//EN
CALSCALE:GREGORIAN
METHOD:PUBLISH
X-WR-CALNAME:Ajuntament de Prats de Lluçanès
X-ORIGINAL-URL:https://historic.pratsdellucanes.cat
X-WR-CALDESC:Esdeveniments per Ajuntament de Prats de Lluçanès
REFRESH-INTERVAL;VALUE=DURATION:PT1H
X-Robots-Tag:noindex
X-PUBLISHED-TTL:PT1H
BEGIN:VTIMEZONE
TZID:Europe/Helsinki
BEGIN:DAYLIGHT
TZOFFSETFROM:+0200
TZOFFSETTO:+0300
TZNAME:EEST
DTSTART:20210328T010000
END:DAYLIGHT
BEGIN:STANDARD
TZOFFSETFROM:+0300
TZOFFSETTO:+0200
TZNAME:EET
DTSTART:20211031T010000
END:STANDARD
END:VTIMEZONE
BEGIN:VEVENT
DTSTART;TZID=Europe/Helsinki:20211102T080000
DTEND;TZID=Europe/Helsinki:20211102T170000
DTSTAMP:20260425T043026
CREATED:20211117T085707Z
LAST-MODIFIED:20211117T085707Z
UID:45833-1635840000-1635872400@historic.pratsdellucanes.cat
SUMMARY:Reunió RRO
DESCRIPTION:
URL:https://historic.pratsdellucanes.cat/esdeveniment/reunio-rro-2/
CATEGORIES:Agenda de l'alcalde
END:VEVENT
BEGIN:VEVENT
DTSTART;TZID=Europe/Helsinki:20211103T080000
DTEND;TZID=Europe/Helsinki:20211103T170000
DTSTAMP:20260425T043026
CREATED:20211117T085928Z
LAST-MODIFIED:20211117T085928Z
UID:45839-1635926400-1635958800@historic.pratsdellucanes.cat
SUMMARY:Reunió UB
DESCRIPTION:
URL:https://historic.pratsdellucanes.cat/esdeveniment/reunio-ub/
CATEGORIES:Agenda de l'alcalde
END:VEVENT
BEGIN:VEVENT
DTSTART;TZID=Europe/Helsinki:20211107T160000
DTEND;TZID=Europe/Helsinki:20211107T170000
DTSTAMP:20260425T043026
CREATED:20211117T090015Z
LAST-MODIFIED:20211117T090015Z
UID:45842-1636300800-1636304400@historic.pratsdellucanes.cat
SUMMARY:Presentació equips FCPradenc
DESCRIPTION:
URL:https://historic.pratsdellucanes.cat/esdeveniment/presentacio-equips-fcpradenc/
CATEGORIES:Agenda de l'alcalde
END:VEVENT
BEGIN:VEVENT
DTSTART;TZID=Europe/Helsinki:20211109T080000
DTEND;TZID=Europe/Helsinki:20211109T170000
DTSTAMP:20260425T043026
CREATED:20211117T090130Z
LAST-MODIFIED:20211117T090130Z
UID:45846-1636444800-1636477200@historic.pratsdellucanes.cat
SUMMARY:Reunió AFA La Pitota
DESCRIPTION:
URL:https://historic.pratsdellucanes.cat/esdeveniment/reunio-afa-la-pitota/
CATEGORIES:Agenda de l'alcalde
END:VEVENT
BEGIN:VEVENT
DTSTART;TZID=Europe/Helsinki:20211109T080000
DTEND;TZID=Europe/Helsinki:20211109T170000
DTSTAMP:20260425T043026
CREATED:20211117T090227Z
LAST-MODIFIED:20211117T090227Z
UID:45848-1636444800-1636477200@historic.pratsdellucanes.cat
SUMMARY:Reunió veïns plaça Església
DESCRIPTION:
URL:https://historic.pratsdellucanes.cat/esdeveniment/reunio-veins-placa-esglesia/
CATEGORIES:Agenda de l'alcalde
END:VEVENT
BEGIN:VEVENT
DTSTART;TZID=Europe/Helsinki:20211110T080000
DTEND;TZID=Europe/Helsinki:20211110T170000
DTSTAMP:20260425T043026
CREATED:20211117T090425Z
LAST-MODIFIED:20211117T090425Z
UID:45853-1636531200-1636563600@historic.pratsdellucanes.cat
SUMMARY:Reunió bar Orient
DESCRIPTION:
URL:https://historic.pratsdellucanes.cat/esdeveniment/reunio-bar-orient/
CATEGORIES:Agenda de l'alcalde
END:VEVENT
BEGIN:VEVENT
DTSTART;TZID=Europe/Helsinki:20211110T080000
DTEND;TZID=Europe/Helsinki:20211110T170000
DTSTAMP:20260425T043026
CREATED:20211117T090515Z
LAST-MODIFIED:20211117T090515Z
UID:45856-1636531200-1636563600@historic.pratsdellucanes.cat
SUMMARY:Mesa de negociació personal
DESCRIPTION:
URL:https://historic.pratsdellucanes.cat/esdeveniment/mesa-de-negociacio-personal/
CATEGORIES:Agenda de l'alcalde
END:VEVENT
BEGIN:VEVENT
DTSTART;TZID=Europe/Helsinki:20211110T080000
DTEND;TZID=Europe/Helsinki:20211110T170000
DTSTAMP:20260425T043026
CREATED:20211117T090535Z
LAST-MODIFIED:20211117T090535Z
UID:45857-1636531200-1636563600@historic.pratsdellucanes.cat
SUMMARY:Reunió CCO compromís 2030
DESCRIPTION:
URL:https://historic.pratsdellucanes.cat/esdeveniment/reunio-cco-compromis-2030/
CATEGORIES:Agenda de l'alcalde
END:VEVENT
BEGIN:VEVENT
DTSTART;TZID=Europe/Helsinki:20211111T080000
DTEND;TZID=Europe/Helsinki:20211111T170000
DTSTAMP:20260425T043026
CREATED:20211117T090612Z
LAST-MODIFIED:20211117T090612Z
UID:45860-1636617600-1636650000@historic.pratsdellucanes.cat
SUMMARY:Visita naus per entitats
DESCRIPTION:
URL:https://historic.pratsdellucanes.cat/esdeveniment/visita-naus-per-entitats/
CATEGORIES:Agenda de l'alcalde
END:VEVENT
BEGIN:VEVENT
DTSTART;TZID=Europe/Helsinki:20211117T080000
DTEND;TZID=Europe/Helsinki:20211117T170000
DTSTAMP:20260425T043026
CREATED:20211117T090717Z
LAST-MODIFIED:20211117T090717Z
UID:45865-1637136000-1637168400@historic.pratsdellucanes.cat
SUMMARY:Reunió Jutjat Berga
DESCRIPTION:
URL:https://historic.pratsdellucanes.cat/esdeveniment/reunio-jutjat-berga/
CATEGORIES:Agenda de l'alcalde
END:VEVENT
BEGIN:VEVENT
DTSTART;TZID=Europe/Helsinki:20211117T080000
DTEND;TZID=Europe/Helsinki:20211117T170000
DTSTAMP:20260425T043026
CREATED:20211117T090741Z
LAST-MODIFIED:20211117T090741Z
UID:45866-1637136000-1637168400@historic.pratsdellucanes.cat
SUMMARY:Reunió Coordinació Catalunya Central
DESCRIPTION:
URL:https://historic.pratsdellucanes.cat/esdeveniment/reunio-coordinacio-catalunya-central/
CATEGORIES:Agenda de l'alcalde
END:VEVENT
BEGIN:VEVENT
DTSTART;TZID=Europe/Helsinki:20211117T193000
DTEND;TZID=Europe/Helsinki:20211117T193000
DTSTAMP:20260425T043026
CREATED:20211117T090756Z
LAST-MODIFIED:20211117T090756Z
UID:45868-1637177400-1637177400@historic.pratsdellucanes.cat
SUMMARY:Ple municipal
DESCRIPTION:
URL:https://historic.pratsdellucanes.cat/esdeveniment/ple-municipal-12/
CATEGORIES:Agenda de l'alcalde
END:VEVENT
BEGIN:VEVENT
DTSTART;TZID=Europe/Helsinki:20211118T160000
DTEND;TZID=Europe/Helsinki:20211118T170000
DTSTAMP:20260425T043026
CREATED:20211117T090858Z
LAST-MODIFIED:20211117T090858Z
UID:45871-1637251200-1637254800@historic.pratsdellucanes.cat
SUMMARY:Acte biblioteca municipal
DESCRIPTION:
URL:https://historic.pratsdellucanes.cat/esdeveniment/acte-biblioteca-municipal/
CATEGORIES:Agenda de l'alcalde
END:VEVENT
BEGIN:VEVENT
DTSTART;TZID=Europe/Helsinki:20211120T080000
DTEND;TZID=Europe/Helsinki:20211120T170000
DTSTAMP:20260425T043026
CREATED:20211117T090947Z
LAST-MODIFIED:20211117T090947Z
UID:45874-1637395200-1637427600@historic.pratsdellucanes.cat
SUMMARY:Reunió Banc de Sang
DESCRIPTION:
URL:https://historic.pratsdellucanes.cat/esdeveniment/reunio-banc-de-sang/
CATEGORIES:Agenda de l'alcalde
END:VEVENT
BEGIN:VEVENT
DTSTART;TZID=Europe/Helsinki:20211121T090000
DTEND;TZID=Europe/Helsinki:20211121T170000
DTSTAMP:20260425T043026
CREATED:20211117T091110Z
LAST-MODIFIED:20211117T091110Z
UID:45873-1637485200-1637514000@historic.pratsdellucanes.cat
SUMMARY:Cros escolar a Prats de Lluçanès
DESCRIPTION:
URL:https://historic.pratsdellucanes.cat/esdeveniment/cros-escolar-a-prats-de-llucanes/
CATEGORIES:Agenda,Agenda de l'alcalde
END:VEVENT
BEGIN:VEVENT
DTSTART;TZID=Europe/Helsinki:20211122T080000
DTEND;TZID=Europe/Helsinki:20211122T170000
DTSTAMP:20260425T043026
CREATED:20211117T091125Z
LAST-MODIFIED:20211117T091125Z
UID:45877-1637568000-1637600400@historic.pratsdellucanes.cat
SUMMARY:Reunió Comissió de festes
DESCRIPTION:
URL:https://historic.pratsdellucanes.cat/esdeveniment/reunio-comissio-de-festes/
CATEGORIES:Agenda de l'alcalde
END:VEVENT
BEGIN:VEVENT
DTSTART;TZID=Europe/Helsinki:20211123T080000
DTEND;TZID=Europe/Helsinki:20211123T170000
DTSTAMP:20260425T043026
CREATED:20211117T091154Z
LAST-MODIFIED:20211117T091154Z
UID:45878-1637654400-1637686800@historic.pratsdellucanes.cat
SUMMARY:Reunió comunitats energètiques
DESCRIPTION:
URL:https://historic.pratsdellucanes.cat/esdeveniment/reunio-comunitats-energetiques/
CATEGORIES:Agenda de l'alcalde
END:VEVENT
END:VCALENDAR