BEGIN:VCALENDAR
VERSION:2.0
PRODID:-//Ajuntament de Prats de Lluçanès - ECPv6.14.2//NONSGML v1.0//EN
CALSCALE:GREGORIAN
METHOD:PUBLISH
X-WR-CALNAME:Ajuntament de Prats de Lluçanès
X-ORIGINAL-URL:https://historic.pratsdellucanes.cat
X-WR-CALDESC:Esdeveniments per Ajuntament de Prats de Lluçanès
REFRESH-INTERVAL;VALUE=DURATION:PT1H
X-Robots-Tag:noindex
X-PUBLISHED-TTL:PT1H
BEGIN:VTIMEZONE
TZID:Europe/Helsinki
BEGIN:DAYLIGHT
TZOFFSETFROM:+0200
TZOFFSETTO:+0300
TZNAME:EEST
DTSTART:20210328T010000
END:DAYLIGHT
BEGIN:STANDARD
TZOFFSETFROM:+0300
TZOFFSETTO:+0200
TZNAME:EET
DTSTART:20211031T010000
END:STANDARD
END:VTIMEZONE
BEGIN:VEVENT
DTSTART;TZID=Europe/Helsinki:20211201T080000
DTEND;TZID=Europe/Helsinki:20211201T170000
DTSTAMP:20260424T215100
CREATED:20211222T100855Z
LAST-MODIFIED:20211222T100855Z
UID:46084-1638345600-1638378000@historic.pratsdellucanes.cat
SUMMARY:Reunió Puigneró
DESCRIPTION:
URL:https://historic.pratsdellucanes.cat/esdeveniment/reunio-puignero-3/
CATEGORIES:Agenda de l'alcalde
END:VEVENT
BEGIN:VEVENT
DTSTART;TZID=Europe/Helsinki:20211201T080000
DTEND;TZID=Europe/Helsinki:20211201T170000
DTSTAMP:20260424T215100
CREATED:20211222T100924Z
LAST-MODIFIED:20211222T100924Z
UID:46086-1638345600-1638378000@historic.pratsdellucanes.cat
SUMMARY:Consell Alcaldes del Lluçanès
DESCRIPTION:
URL:https://historic.pratsdellucanes.cat/esdeveniment/consell-alcaldes-del-llucanes/
CATEGORIES:Agenda de l'alcalde
END:VEVENT
BEGIN:VEVENT
DTSTART;TZID=Europe/Helsinki:20211202T080000
DTEND;TZID=Europe/Helsinki:20211202T170000
DTSTAMP:20260424T215100
CREATED:20211222T100948Z
LAST-MODIFIED:20211222T100948Z
UID:46088-1638432000-1638464400@historic.pratsdellucanes.cat
SUMMARY:Reunió Jutges de Pau
DESCRIPTION:
URL:https://historic.pratsdellucanes.cat/esdeveniment/reunio-jutges-de-pau/
CATEGORIES:Agenda de l'alcalde
END:VEVENT
BEGIN:VEVENT
DTSTART;TZID=Europe/Helsinki:20211202T200000
DTEND;TZID=Europe/Helsinki:20211202T200000
DTSTAMP:20260424T215100
CREATED:20211222T101019Z
LAST-MODIFIED:20211222T101019Z
UID:46091-1638475200-1638475200@historic.pratsdellucanes.cat
SUMMARY:Nit del Turisme Osona
DESCRIPTION:
URL:https://historic.pratsdellucanes.cat/esdeveniment/nit-del-turisme-osona/
CATEGORIES:Agenda de l'alcalde
END:VEVENT
BEGIN:VEVENT
DTSTART;TZID=Europe/Helsinki:20211209T080000
DTEND;TZID=Europe/Helsinki:20211209T170000
DTSTAMP:20260424T215100
CREATED:20211222T101138Z
LAST-MODIFIED:20211222T101138Z
UID:46095-1639036800-1639069200@historic.pratsdellucanes.cat
SUMMARY:Reunió Coordinació COVID-19
DESCRIPTION:
URL:https://historic.pratsdellucanes.cat/esdeveniment/reunio-coordinacio-covid-19/
CATEGORIES:Agenda de l'alcalde
END:VEVENT
BEGIN:VEVENT
DTSTART;TZID=Europe/Helsinki:20211210T080000
DTEND;TZID=Europe/Helsinki:20211210T170000
DTSTAMP:20260424T215100
CREATED:20211222T101217Z
LAST-MODIFIED:20211222T101217Z
UID:46098-1639123200-1639155600@historic.pratsdellucanes.cat
SUMMARY:Jurat Concurs FUM FUM FUM
DESCRIPTION:
URL:https://historic.pratsdellucanes.cat/esdeveniment/jurat-concurs-fum-fum-fum-2/
CATEGORIES:Agenda de l'alcalde
END:VEVENT
BEGIN:VEVENT
DTSTART;TZID=Europe/Helsinki:20211210T080000
DTEND;TZID=Europe/Helsinki:20211210T170000
DTSTAMP:20260424T215100
CREATED:20211222T101345Z
LAST-MODIFIED:20211222T101345Z
UID:46100-1639123200-1639155600@historic.pratsdellucanes.cat
SUMMARY:Reunió Futbol Club Pradenc i Futbol Sala Prats
DESCRIPTION:
URL:https://historic.pratsdellucanes.cat/esdeveniment/reunio-futbol-club-pradenc-i-futbol-sala-prats/
CATEGORIES:Agenda de l'alcalde
END:VEVENT
BEGIN:VEVENT
DTSTART;TZID=Europe/Helsinki:20211211T080000
DTEND;TZID=Europe/Helsinki:20211211T170000
DTSTAMP:20260424T215100
CREATED:20211222T101431Z
LAST-MODIFIED:20211222T101431Z
UID:46102-1639209600-1639242000@historic.pratsdellucanes.cat
SUMMARY:Jornada tècnica Turisme Eqüestre
DESCRIPTION:
URL:https://historic.pratsdellucanes.cat/esdeveniment/jornada-tecnica-turisme-equestre/
CATEGORIES:Agenda de l'alcalde
END:VEVENT
BEGIN:VEVENT
DTSTART;TZID=Europe/Helsinki:20211214T080000
DTEND;TZID=Europe/Helsinki:20211214T170000
DTSTAMP:20260424T215100
CREATED:20211222T101530Z
LAST-MODIFIED:20211222T101530Z
UID:46104-1639468800-1639501200@historic.pratsdellucanes.cat
SUMMARY:Reunió Consell escolar
DESCRIPTION:
URL:https://historic.pratsdellucanes.cat/esdeveniment/reunio-consell-escolar/
CATEGORIES:Agenda de l'alcalde
END:VEVENT
BEGIN:VEVENT
DTSTART;TZID=Europe/Helsinki:20211216T080000
DTEND;TZID=Europe/Helsinki:20211216T170000
DTSTAMP:20260424T215100
CREATED:20211222T101644Z
LAST-MODIFIED:20211222T101644Z
UID:46108-1639641600-1639674000@historic.pratsdellucanes.cat
SUMMARY:Consell General del Consorci del Lluçanès
DESCRIPTION:
URL:https://historic.pratsdellucanes.cat/esdeveniment/consell-general-del-consorci-del-llucanes/
CATEGORIES:Agenda de l'alcalde
END:VEVENT
BEGIN:VEVENT
DTSTART;TZID=Europe/Helsinki:20211218T080000
DTEND;TZID=Europe/Helsinki:20211218T170000
DTSTAMP:20260424T215100
CREATED:20211222T101720Z
LAST-MODIFIED:20211222T101720Z
UID:46111-1639814400-1639846800@historic.pratsdellucanes.cat
SUMMARY:Concert Nadal per la Marató
DESCRIPTION:
URL:https://historic.pratsdellucanes.cat/esdeveniment/concert-nadal-per-la-marato/
CATEGORIES:Agenda de l'alcalde
END:VEVENT
BEGIN:VEVENT
DTSTART;TZID=Europe/Helsinki:20211220T080000
DTEND;TZID=Europe/Helsinki:20211220T170000
DTSTAMP:20260424T215100
CREATED:20211222T101747Z
LAST-MODIFIED:20211222T101747Z
UID:46114-1639987200-1640019600@historic.pratsdellucanes.cat
SUMMARY:Reunió geganters
DESCRIPTION:
URL:https://historic.pratsdellucanes.cat/esdeveniment/reunio-geganters/
CATEGORIES:Agenda de l'alcalde
END:VEVENT
BEGIN:VEVENT
DTSTART;TZID=Europe/Helsinki:20211221T080000
DTEND;TZID=Europe/Helsinki:20211221T170000
DTSTAMP:20260424T215100
CREATED:20211222T101818Z
LAST-MODIFIED:20211222T101818Z
UID:46117-1640073600-1640106000@historic.pratsdellucanes.cat
SUMMARY:Reunió Patronat FUB
DESCRIPTION:
URL:https://historic.pratsdellucanes.cat/esdeveniment/reunio-patronat-fub/
CATEGORIES:Agenda de l'alcalde
END:VEVENT
BEGIN:VEVENT
DTSTART;TZID=Europe/Helsinki:20211221T080000
DTEND;TZID=Europe/Helsinki:20211221T170000
DTSTAMP:20260424T215100
CREATED:20211222T101903Z
LAST-MODIFIED:20211222T101903Z
UID:46119-1640073600-1640106000@historic.pratsdellucanes.cat
SUMMARY:Consell Alcaldes
DESCRIPTION:
URL:https://historic.pratsdellucanes.cat/esdeveniment/consell-alcaldes/
CATEGORIES:Agenda de l'alcalde
END:VEVENT
BEGIN:VEVENT
DTSTART;TZID=Europe/Helsinki:20211222T080000
DTEND;TZID=Europe/Helsinki:20211222T170000
DTSTAMP:20260424T215100
CREATED:20211222T101934Z
LAST-MODIFIED:20211222T101934Z
UID:46121-1640160000-1640192400@historic.pratsdellucanes.cat
SUMMARY:Reunió Mossos d'Esquadra
DESCRIPTION:
URL:https://historic.pratsdellucanes.cat/esdeveniment/reunio-mossos-desquadra/
CATEGORIES:Agenda de l'alcalde
END:VEVENT
BEGIN:VEVENT
DTSTART;TZID=Europe/Helsinki:20211222T080000
DTEND;TZID=Europe/Helsinki:20211222T170000
DTSTAMP:20260424T215100
CREATED:20211222T102002Z
LAST-MODIFIED:20211222T102002Z
UID:46124-1640160000-1640192400@historic.pratsdellucanes.cat
SUMMARY:Reunió comunitats energètiques
DESCRIPTION:
URL:https://historic.pratsdellucanes.cat/esdeveniment/reunio-comunitats-energetiques-2/
CATEGORIES:Agenda de l'alcalde
END:VEVENT
BEGIN:VEVENT
DTSTART;TZID=Europe/Helsinki:20211222T080000
DTEND;TZID=Europe/Helsinki:20211222T170000
DTSTAMP:20260424T215100
CREATED:20211222T102028Z
LAST-MODIFIED:20211222T102028Z
UID:46126-1640160000-1640192400@historic.pratsdellucanes.cat
SUMMARY:Visita obres buc municipal
DESCRIPTION:
URL:https://historic.pratsdellucanes.cat/esdeveniment/visita-obres-buc-municipal/
CATEGORIES:Agenda de l'alcalde
END:VEVENT
BEGIN:VEVENT
DTSTART;TZID=Europe/Helsinki:20211223T080000
DTEND;TZID=Europe/Helsinki:20211223T170000
DTSTAMP:20260424T215100
CREATED:20211222T102055Z
LAST-MODIFIED:20211222T102055Z
UID:46128-1640246400-1640278800@historic.pratsdellucanes.cat
SUMMARY:Reunió coordinació COVID-19
DESCRIPTION:
URL:https://historic.pratsdellucanes.cat/esdeveniment/reunio-coordinacio-covid-19-2/
CATEGORIES:Agenda de l'alcalde
END:VEVENT
BEGIN:VEVENT
DTSTART;TZID=Europe/Helsinki:20211223T080000
DTEND;TZID=Europe/Helsinki:20211223T170000
DTSTAMP:20260424T215100
CREATED:20211222T102117Z
LAST-MODIFIED:20211222T102117Z
UID:46130-1640246400-1640278800@historic.pratsdellucanes.cat
SUMMARY:Reunió ABS Lluçanès
DESCRIPTION:
URL:https://historic.pratsdellucanes.cat/esdeveniment/reunio-abs-llucanes/
CATEGORIES:Agenda de l'alcalde
END:VEVENT
END:VCALENDAR