BEGIN:VCALENDAR
VERSION:2.0
PRODID:-//Ajuntament de Prats de Lluçanès - ECPv6.14.2//NONSGML v1.0//EN
CALSCALE:GREGORIAN
METHOD:PUBLISH
X-ORIGINAL-URL:https://historic.pratsdellucanes.cat
X-WR-CALDESC:Esdeveniments per Ajuntament de Prats de Lluçanès
REFRESH-INTERVAL;VALUE=DURATION:PT1H
X-Robots-Tag:noindex
X-PUBLISHED-TTL:PT1H
BEGIN:VTIMEZONE
TZID:Europe/Helsinki
BEGIN:DAYLIGHT
TZOFFSETFROM:+0200
TZOFFSETTO:+0300
TZNAME:EEST
DTSTART:20220327T010000
END:DAYLIGHT
BEGIN:STANDARD
TZOFFSETFROM:+0300
TZOFFSETTO:+0200
TZNAME:EET
DTSTART:20221030T010000
END:STANDARD
END:VTIMEZONE
BEGIN:VEVENT
DTSTART;TZID=Europe/Helsinki:20220101T093000
DTEND;TZID=Europe/Helsinki:20220101T103000
DTSTAMP:20260424T184410
CREATED:20220204T090538Z
LAST-MODIFIED:20220204T090538Z
UID:46547-1641029400-1641033000@historic.pratsdellucanes.cat
SUMMARY:Entrevista Programa Obrim Fil - TV Berguedà
DESCRIPTION:
URL:https://historic.pratsdellucanes.cat/esdeveniment/entrevista-programa-obrim-fil-tv-bergueda/
CATEGORIES:Agenda de l'alcalde
END:VEVENT
BEGIN:VEVENT
DTSTART;TZID=Europe/Helsinki:20220106T080000
DTEND;TZID=Europe/Helsinki:20220106T170000
DTSTAMP:20260424T184410
CREATED:20220125T103757Z
LAST-MODIFIED:20220125T103757Z
UID:46391-1641456000-1641488400@historic.pratsdellucanes.cat
SUMMARY:Reunió comissió de festes
DESCRIPTION:
URL:https://historic.pratsdellucanes.cat/esdeveniment/reunio-comissio-de-festes-2/
CATEGORIES:Agenda de l'alcalde
END:VEVENT
BEGIN:VEVENT
DTSTART;TZID=Europe/Helsinki:20220107T080000
DTEND;TZID=Europe/Helsinki:20220107T170000
DTSTAMP:20260424T184410
CREATED:20220125T103926Z
LAST-MODIFIED:20220125T103926Z
UID:46393-1641542400-1641574800@historic.pratsdellucanes.cat
SUMMARY:Reunió Dansa i Tradició
DESCRIPTION:
URL:https://historic.pratsdellucanes.cat/esdeveniment/reunio-dansa-i-tradicio/
CATEGORIES:Agenda de l'alcalde
END:VEVENT
BEGIN:VEVENT
DTSTART;TZID=Europe/Helsinki:20220111T080000
DTEND;TZID=Europe/Helsinki:20220111T170000
DTSTAMP:20260424T184410
CREATED:20220125T104012Z
LAST-MODIFIED:20220125T104012Z
UID:46395-1641888000-1641920400@historic.pratsdellucanes.cat
SUMMARY:Reunió SENPLAG
DESCRIPTION:
URL:https://historic.pratsdellucanes.cat/esdeveniment/reunio-senplag/
CATEGORIES:Agenda de l'alcalde
END:VEVENT
BEGIN:VEVENT
DTSTART;TZID=Europe/Helsinki:20220111T080000
DTEND;TZID=Europe/Helsinki:20220111T170000
DTSTAMP:20260424T184410
CREATED:20220125T104115Z
LAST-MODIFIED:20220125T104115Z
UID:46397-1641888000-1641920400@historic.pratsdellucanes.cat
SUMMARY:Reunió Mossos d'Esquadra
DESCRIPTION:
URL:https://historic.pratsdellucanes.cat/esdeveniment/reunio-mossos-desquadra-2/
CATEGORIES:Agenda de l'alcalde
END:VEVENT
BEGIN:VEVENT
DTSTART;TZID=Europe/Helsinki:20220112T080000
DTEND;TZID=Europe/Helsinki:20220112T170000
DTSTAMP:20260424T184410
CREATED:20220125T104215Z
LAST-MODIFIED:20220125T104215Z
UID:46400-1641974400-1642006800@historic.pratsdellucanes.cat
SUMMARY:Consell escolar escola Bressol La Pitota
DESCRIPTION:
URL:https://historic.pratsdellucanes.cat/esdeveniment/consell-escolar-escola-bressol-la-pitota-2/
CATEGORIES:Agenda de l'alcalde
END:VEVENT
BEGIN:VEVENT
DTSTART;TZID=Europe/Helsinki:20220112T080000
DTEND;TZID=Europe/Helsinki:20220112T170000
DTSTAMP:20260424T184410
CREATED:20220125T104321Z
LAST-MODIFIED:20220125T104321Z
UID:46402-1641974400-1642006800@historic.pratsdellucanes.cat
SUMMARY:Reunió coordinació Delegació Govern Catalunya Central
DESCRIPTION:
URL:https://historic.pratsdellucanes.cat/esdeveniment/reunio-coordinacio-delegacio-govern-catalunya-central/
CATEGORIES:Agenda de l'alcalde
END:VEVENT
BEGIN:VEVENT
DTSTART;TZID=Europe/Helsinki:20220113T080000
DTEND;TZID=Europe/Helsinki:20220113T170000
DTSTAMP:20260424T184410
CREATED:20220125T104418Z
LAST-MODIFIED:20220125T104418Z
UID:46404-1642060800-1642093200@historic.pratsdellucanes.cat
SUMMARY:Reunió Institut Vic
DESCRIPTION:
URL:https://historic.pratsdellucanes.cat/esdeveniment/reunio-institut-vic/
CATEGORIES:Agenda de l'alcalde
END:VEVENT
BEGIN:VEVENT
DTSTART;TZID=Europe/Helsinki:20220113T080000
DTEND;TZID=Europe/Helsinki:20220113T170000
DTSTAMP:20260424T184410
CREATED:20220125T104534Z
LAST-MODIFIED:20220125T104534Z
UID:46406-1642060800-1642093200@historic.pratsdellucanes.cat
SUMMARY:Reunió GOUFONE
DESCRIPTION:
URL:https://historic.pratsdellucanes.cat/esdeveniment/reunio-goufone/
CATEGORIES:Agenda de l'alcalde
END:VEVENT
BEGIN:VEVENT
DTSTART;TZID=Europe/Helsinki:20220119T193000
DTEND;TZID=Europe/Helsinki:20220119T193000
DTSTAMP:20260424T184410
CREATED:20220110T082917Z
LAST-MODIFIED:20220110T082917Z
UID:46232-1642620600-1642620600@historic.pratsdellucanes.cat
SUMMARY:Ple Municipal
DESCRIPTION:
URL:https://historic.pratsdellucanes.cat/esdeveniment/ple-municipal-13/
CATEGORIES:Agenda de l'alcalde
END:VEVENT
BEGIN:VEVENT
DTSTART;TZID=Europe/Helsinki:20220121T080000
DTEND;TZID=Europe/Helsinki:20220121T170000
DTSTAMP:20260424T184410
CREATED:20220125T104614Z
LAST-MODIFIED:20220125T104614Z
UID:46409-1642752000-1642784400@historic.pratsdellucanes.cat
SUMMARY:Acte AMI Vic
DESCRIPTION:
URL:https://historic.pratsdellucanes.cat/esdeveniment/acte-ami-vic/
CATEGORIES:Agenda de l'alcalde
END:VEVENT
BEGIN:VEVENT
DTSTART;TZID=Europe/Helsinki:20220121T080000
DTEND;TZID=Europe/Helsinki:20220121T170000
DTSTAMP:20260424T184410
CREATED:20220125T104713Z
LAST-MODIFIED:20220125T104713Z
UID:46411-1642752000-1642784400@historic.pratsdellucanes.cat
SUMMARY:Pregó de la Festa Major Sant  Vicenç
DESCRIPTION:
URL:https://historic.pratsdellucanes.cat/esdeveniment/prego-de-la-festa-major-sant-vicenc/
CATEGORIES:Agenda de l'alcalde
END:VEVENT
BEGIN:VEVENT
DTSTART;TZID=Europe/Helsinki:20220123T080000
DTEND;TZID=Europe/Helsinki:20220123T170000
DTSTAMP:20260424T184410
CREATED:20220125T104937Z
LAST-MODIFIED:20220125T104937Z
UID:46415-1642924800-1642957200@historic.pratsdellucanes.cat
SUMMARY:Inauguració exposició Sala Cal Bach “Joan Tomàs i Parés”
DESCRIPTION:
URL:https://historic.pratsdellucanes.cat/esdeveniment/inauguracio-exposicio-sala-cal-bach-joan-tomas-i-pares/
CATEGORIES:Agenda de l'alcalde
END:VEVENT
END:VCALENDAR