BEGIN:VCALENDAR
VERSION:2.0
PRODID:-//Ajuntament de Prats de Lluçanès - ECPv6.14.2//NONSGML v1.0//EN
CALSCALE:GREGORIAN
METHOD:PUBLISH
X-WR-CALNAME:Ajuntament de Prats de Lluçanès
X-ORIGINAL-URL:https://historic.pratsdellucanes.cat
X-WR-CALDESC:Esdeveniments per Ajuntament de Prats de Lluçanès
REFRESH-INTERVAL;VALUE=DURATION:PT1H
X-Robots-Tag:noindex
X-PUBLISHED-TTL:PT1H
BEGIN:VTIMEZONE
TZID:Europe/Helsinki
BEGIN:DAYLIGHT
TZOFFSETFROM:+0200
TZOFFSETTO:+0300
TZNAME:EEST
DTSTART:20220327T010000
END:DAYLIGHT
BEGIN:STANDARD
TZOFFSETFROM:+0300
TZOFFSETTO:+0200
TZNAME:EET
DTSTART:20221030T010000
END:STANDARD
END:VTIMEZONE
BEGIN:VEVENT
DTSTART;TZID=Europe/Helsinki:20220802T080000
DTEND;TZID=Europe/Helsinki:20220802T100000
DTSTAMP:20260423T052438
CREATED:20230104T104733Z
LAST-MODIFIED:20230104T104733Z
UID:48625-1659427200-1659434400@historic.pratsdellucanes.cat
SUMMARY:Reunió tenis
DESCRIPTION:
URL:https://historic.pratsdellucanes.cat/esdeveniment/reunio-tenis/
CATEGORIES:Agenda de l'alcalde
END:VEVENT
BEGIN:VEVENT
DTSTART;TZID=Europe/Helsinki:20220802T100000
DTEND;TZID=Europe/Helsinki:20220802T120000
DTSTAMP:20260423T052438
CREATED:20230104T104817Z
LAST-MODIFIED:20230104T104817Z
UID:48627-1659434400-1659441600@historic.pratsdellucanes.cat
SUMMARY:Reunió equip de govern
DESCRIPTION:
URL:https://historic.pratsdellucanes.cat/esdeveniment/reunio-equip-de-govern-383/
CATEGORIES:Agenda de l'alcalde
END:VEVENT
BEGIN:VEVENT
DTSTART;TZID=Europe/Helsinki:20220804T100000
DTEND;TZID=Europe/Helsinki:20220804T120000
DTSTAMP:20260423T052438
CREATED:20230104T104851Z
LAST-MODIFIED:20230104T104851Z
UID:48629-1659607200-1659614400@historic.pratsdellucanes.cat
SUMMARY:Reunió Ferrer
DESCRIPTION:
URL:https://historic.pratsdellucanes.cat/esdeveniment/reunio-ferrer/
CATEGORIES:Agenda de l'alcalde
END:VEVENT
BEGIN:VEVENT
DTSTART;TZID=Europe/Helsinki:20220804T120000
DTEND;TZID=Europe/Helsinki:20220804T130000
DTSTAMP:20260423T052438
CREATED:20230104T104934Z
LAST-MODIFIED:20230104T104934Z
UID:48631-1659614400-1659618000@historic.pratsdellucanes.cat
SUMMARY:Reunió Unió Pastoral
DESCRIPTION:
URL:https://historic.pratsdellucanes.cat/esdeveniment/reunio-unio-pastoral/
CATEGORIES:Agenda de l'alcalde
END:VEVENT
BEGIN:VEVENT
DTSTART;TZID=Europe/Helsinki:20220809T090000
DTEND;TZID=Europe/Helsinki:20220809T110000
DTSTAMP:20260423T052438
CREATED:20230104T105014Z
LAST-MODIFIED:20230104T105014Z
UID:48633-1660035600-1660042800@historic.pratsdellucanes.cat
SUMMARY:Reunió equip de govern
DESCRIPTION:
URL:https://historic.pratsdellucanes.cat/esdeveniment/reunio-equip-de-govern-384/
CATEGORIES:Agenda de l'alcalde
END:VEVENT
BEGIN:VEVENT
DTSTART;TZID=Europe/Helsinki:20220810T090000
DTEND;TZID=Europe/Helsinki:20220810T110000
DTSTAMP:20260423T052438
CREATED:20230104T105051Z
LAST-MODIFIED:20230104T105051Z
UID:48635-1660122000-1660129200@historic.pratsdellucanes.cat
SUMMARY:Reunió junta de govern local
DESCRIPTION:
URL:https://historic.pratsdellucanes.cat/esdeveniment/reunio-junta-de-govern-local/
CATEGORIES:Agenda de l'alcalde
END:VEVENT
BEGIN:VEVENT
DTSTART;TZID=Europe/Helsinki:20220816T090000
DTEND;TZID=Europe/Helsinki:20220816T100000
DTSTAMP:20260423T052438
CREATED:20230104T105211Z
LAST-MODIFIED:20230104T105211Z
UID:48637-1660640400-1660644000@historic.pratsdellucanes.cat
SUMMARY:Reunió propietat
DESCRIPTION:
URL:https://historic.pratsdellucanes.cat/esdeveniment/reunio-propietat/
CATEGORIES:Agenda de l'alcalde
END:VEVENT
BEGIN:VEVENT
DTSTART;TZID=Europe/Helsinki:20220816T100000
DTEND;TZID=Europe/Helsinki:20220816T110000
DTSTAMP:20260423T052438
CREATED:20230104T105243Z
LAST-MODIFIED:20230104T105243Z
UID:48639-1660644000-1660647600@historic.pratsdellucanes.cat
SUMMARY:Reunió caldera pellet
DESCRIPTION:
URL:https://historic.pratsdellucanes.cat/esdeveniment/reunio-caldera-pellet/
CATEGORIES:Agenda de l'alcalde
END:VEVENT
BEGIN:VEVENT
DTSTART;TZID=Europe/Helsinki:20220816T120000
DTEND;TZID=Europe/Helsinki:20220816T140000
DTSTAMP:20260423T052438
CREATED:20230104T105327Z
LAST-MODIFIED:20230104T105327Z
UID:48641-1660651200-1660658400@historic.pratsdellucanes.cat
SUMMARY:Reunió equip de govern
DESCRIPTION:
URL:https://historic.pratsdellucanes.cat/esdeveniment/reunio-equip-de-govern-385/
CATEGORIES:Agenda de l'alcalde
END:VEVENT
BEGIN:VEVENT
DTSTART;TZID=Europe/Helsinki:20220823T100000
DTEND;TZID=Europe/Helsinki:20220823T120000
DTSTAMP:20260423T052438
CREATED:20230104T105401Z
LAST-MODIFIED:20230104T105401Z
UID:48643-1661248800-1661256000@historic.pratsdellucanes.cat
SUMMARY:Reunió equip de govern
DESCRIPTION:
URL:https://historic.pratsdellucanes.cat/esdeveniment/reunio-equip-de-govern-386/
CATEGORIES:Agenda de l'alcalde
END:VEVENT
BEGIN:VEVENT
DTSTART;TZID=Europe/Helsinki:20220824T100000
DTEND;TZID=Europe/Helsinki:20220824T120000
DTSTAMP:20260423T052438
CREATED:20230104T105432Z
LAST-MODIFIED:20230104T105432Z
UID:48645-1661335200-1661342400@historic.pratsdellucanes.cat
SUMMARY:Junta de govern local
DESCRIPTION:
URL:https://historic.pratsdellucanes.cat/esdeveniment/junta-de-govern-local/
CATEGORIES:Agenda de l'alcalde
END:VEVENT
BEGIN:VEVENT
DTSTART;TZID=Europe/Helsinki:20220825T090000
DTEND;TZID=Europe/Helsinki:20220825T100000
DTSTAMP:20260423T052438
CREATED:20230104T105509Z
LAST-MODIFIED:20230104T105509Z
UID:48647-1661418000-1661421600@historic.pratsdellucanes.cat
SUMMARY:Reunió AGBAR
DESCRIPTION:
URL:https://historic.pratsdellucanes.cat/esdeveniment/reunio-agbar/
CATEGORIES:Agenda de l'alcalde
END:VEVENT
BEGIN:VEVENT
DTSTART;TZID=Europe/Helsinki:20220825T110000
DTEND;TZID=Europe/Helsinki:20220825T120000
DTSTAMP:20260423T052438
CREATED:20230104T105548Z
LAST-MODIFIED:20230104T105548Z
UID:48650-1661425200-1661428800@historic.pratsdellucanes.cat
SUMMARY:Reunió constructor
DESCRIPTION:
URL:https://historic.pratsdellucanes.cat/esdeveniment/reunio-constructor/
CATEGORIES:Agenda de l'alcalde
END:VEVENT
BEGIN:VEVENT
DTSTART;TZID=Europe/Helsinki:20220826T080000
DTEND;TZID=Europe/Helsinki:20220826T120000
DTSTAMP:20260423T052438
CREATED:20230104T105623Z
LAST-MODIFIED:20230104T105623Z
UID:48652-1661500800-1661515200@historic.pratsdellucanes.cat
SUMMARY:Pla de prevenció d'incendis
DESCRIPTION:
URL:https://historic.pratsdellucanes.cat/esdeveniment/pla-de-prevencio-dincendis/
CATEGORIES:Agenda de l'alcalde
END:VEVENT
BEGIN:VEVENT
DTSTART;TZID=Europe/Helsinki:20220830T090000
DTEND;TZID=Europe/Helsinki:20220830T110000
DTSTAMP:20260423T052438
CREATED:20230104T105745Z
LAST-MODIFIED:20230104T105745Z
UID:48657-1661850000-1661857200@historic.pratsdellucanes.cat
SUMMARY:Reunió serveis territorials Manresa
DESCRIPTION:
URL:https://historic.pratsdellucanes.cat/esdeveniment/reunio-serveis-territorials-manresa/
CATEGORIES:Agenda de l'alcalde
END:VEVENT
BEGIN:VEVENT
DTSTART;TZID=Europe/Helsinki:20220830T120000
DTEND;TZID=Europe/Helsinki:20220830T130000
DTSTAMP:20260423T052438
CREATED:20230104T105656Z
LAST-MODIFIED:20230104T105656Z
UID:48655-1661860800-1661864400@historic.pratsdellucanes.cat
SUMMARY:Entrevista Pla Aplens
DESCRIPTION:
URL:https://historic.pratsdellucanes.cat/esdeveniment/entrevista-pla-aplens/
CATEGORIES:Agenda de l'alcalde
END:VEVENT
END:VCALENDAR