BEGIN:VCALENDAR
VERSION:2.0
PRODID:-//Ajuntament de Prats de Lluçanès - ECPv6.14.2//NONSGML v1.0//EN
CALSCALE:GREGORIAN
METHOD:PUBLISH
X-WR-CALNAME:Ajuntament de Prats de Lluçanès
X-ORIGINAL-URL:https://historic.pratsdellucanes.cat
X-WR-CALDESC:Esdeveniments per Ajuntament de Prats de Lluçanès
REFRESH-INTERVAL;VALUE=DURATION:PT1H
X-Robots-Tag:noindex
X-PUBLISHED-TTL:PT1H
BEGIN:VTIMEZONE
TZID:Europe/Helsinki
BEGIN:DAYLIGHT
TZOFFSETFROM:+0200
TZOFFSETTO:+0300
TZNAME:EEST
DTSTART:20230326T010000
END:DAYLIGHT
BEGIN:STANDARD
TZOFFSETFROM:+0300
TZOFFSETTO:+0200
TZNAME:EET
DTSTART:20231029T010000
END:STANDARD
END:VTIMEZONE
BEGIN:VEVENT
DTSTART;VALUE=DATE:20230601
DTEND;VALUE=DATE:20230602
DTSTAMP:20260421T162840
CREATED:20240221T140255Z
LAST-MODIFIED:20240221T140255Z
UID:51920-1685577600-1685663999@historic.pratsdellucanes.cat
SUMMARY:Reunió visita piscina
DESCRIPTION:
URL:https://historic.pratsdellucanes.cat/esdeveniment/reunio-visita-piscina/
CATEGORIES:Agenda de l'alcalde
END:VEVENT
BEGIN:VEVENT
DTSTART;VALUE=DATE:20230601
DTEND;VALUE=DATE:20230602
DTSTAMP:20260421T162840
CREATED:20240221T140348Z
LAST-MODIFIED:20240221T140348Z
UID:51922-1685577600-1685663999@historic.pratsdellucanes.cat
SUMMARY:Festa aniversari 15 anys Centre de dia
DESCRIPTION:
URL:https://historic.pratsdellucanes.cat/esdeveniment/festa-aniversari-15-anys-centre-de-dia/
CATEGORIES:Agenda de l'alcalde
END:VEVENT
BEGIN:VEVENT
DTSTART;VALUE=DATE:20230601
DTEND;VALUE=DATE:20230602
DTSTAMP:20260421T162840
CREATED:20240221T140423Z
LAST-MODIFIED:20240221T140423Z
UID:51924-1685577600-1685663999@historic.pratsdellucanes.cat
SUMMARY:CUEME a Sant Bartomeu del Grau
DESCRIPTION:
URL:https://historic.pratsdellucanes.cat/esdeveniment/cueme-a-sant-bartomeu-del-grau/
CATEGORIES:Agenda de l'alcalde
END:VEVENT
BEGIN:VEVENT
DTSTART;VALUE=DATE:20230602
DTEND;VALUE=DATE:20230603
DTSTAMP:20260421T162840
CREATED:20240221T140506Z
LAST-MODIFIED:20240221T140506Z
UID:51926-1685664000-1685750399@historic.pratsdellucanes.cat
SUMMARY:Memorial Democràtic
DESCRIPTION:
URL:https://historic.pratsdellucanes.cat/esdeveniment/memorial-democratic/
CATEGORIES:Agenda de l'alcalde
END:VEVENT
BEGIN:VEVENT
DTSTART;VALUE=DATE:20230603
DTEND;VALUE=DATE:20230604
DTSTAMP:20260421T162840
CREATED:20240221T140602Z
LAST-MODIFIED:20240221T140602Z
UID:51928-1685750400-1685836799@historic.pratsdellucanes.cat
SUMMARY:Acte Ecoembes Prats
DESCRIPTION:
URL:https://historic.pratsdellucanes.cat/esdeveniment/acte-ecoembes-prats/
CATEGORIES:Agenda de l'alcalde
END:VEVENT
BEGIN:VEVENT
DTSTART;VALUE=DATE:20230606
DTEND;VALUE=DATE:20230607
DTSTAMP:20260421T162840
CREATED:20240221T140644Z
LAST-MODIFIED:20240221T140644Z
UID:51930-1686009600-1686095999@historic.pratsdellucanes.cat
SUMMARY:Reunió zona esportiva
DESCRIPTION:
URL:https://historic.pratsdellucanes.cat/esdeveniment/reunio-zona-esportiva/
CATEGORIES:Agenda de l'alcalde
END:VEVENT
BEGIN:VEVENT
DTSTART;VALUE=DATE:20230606
DTEND;VALUE=DATE:20230607
DTSTAMP:20260421T162840
CREATED:20240221T140739Z
LAST-MODIFIED:20240221T140739Z
UID:51932-1686009600-1686095999@historic.pratsdellucanes.cat
SUMMARY:Reunió Impalada 2023
DESCRIPTION:
URL:https://historic.pratsdellucanes.cat/esdeveniment/reunio-impalada-2023-2/
CATEGORIES:Agenda de l'alcalde
END:VEVENT
BEGIN:VEVENT
DTSTART;VALUE=DATE:20230606
DTEND;VALUE=DATE:20230607
DTSTAMP:20260421T162840
CREATED:20240221T140822Z
LAST-MODIFIED:20240221T140822Z
UID:51934-1686009600-1686095999@historic.pratsdellucanes.cat
SUMMARY:Reunió Bastoners
DESCRIPTION:
URL:https://historic.pratsdellucanes.cat/esdeveniment/reunio-bastoners/
CATEGORIES:Agenda de l'alcalde
END:VEVENT
BEGIN:VEVENT
DTSTART;VALUE=DATE:20230607
DTEND;VALUE=DATE:20230608
DTSTAMP:20260421T162840
CREATED:20240221T140908Z
LAST-MODIFIED:20240221T140908Z
UID:51936-1686096000-1686182399@historic.pratsdellucanes.cat
SUMMARY:Consell alcaldes
DESCRIPTION:
URL:https://historic.pratsdellucanes.cat/esdeveniment/consell-alcaldes-2/
CATEGORIES:Agenda de l'alcalde
END:VEVENT
BEGIN:VEVENT
DTSTART;VALUE=DATE:20230609
DTEND;VALUE=DATE:20230610
DTSTAMP:20260421T162840
CREATED:20240221T140956Z
LAST-MODIFIED:20240221T140956Z
UID:51938-1686268800-1686355199@historic.pratsdellucanes.cat
SUMMARY:Reunió Comissió de festes
DESCRIPTION:
URL:https://historic.pratsdellucanes.cat/esdeveniment/reunio-comissio-de-festes-6/
CATEGORIES:Agenda de l'alcalde
END:VEVENT
BEGIN:VEVENT
DTSTART;VALUE=DATE:20230613
DTEND;VALUE=DATE:20230614
DTSTAMP:20260421T162840
CREATED:20240221T141043Z
LAST-MODIFIED:20240221T141043Z
UID:51940-1686614400-1686700799@historic.pratsdellucanes.cat
SUMMARY:Reunió enllumenat
DESCRIPTION:
URL:https://historic.pratsdellucanes.cat/esdeveniment/reunio-enllumenat-2/
CATEGORIES:Agenda de l'alcalde
END:VEVENT
BEGIN:VEVENT
DTSTART;VALUE=DATE:20230613
DTEND;VALUE=DATE:20230614
DTSTAMP:20260421T162840
CREATED:20240221T141130Z
LAST-MODIFIED:20240221T141130Z
UID:51942-1686614400-1686700799@historic.pratsdellucanes.cat
SUMMARY:Junta de govern local
DESCRIPTION:
URL:https://historic.pratsdellucanes.cat/esdeveniment/junta-de-govern-local-26/
CATEGORIES:Agenda de l'alcalde
END:VEVENT
BEGIN:VEVENT
DTSTART;VALUE=DATE:20230614
DTEND;VALUE=DATE:20230615
DTSTAMP:20260421T162840
CREATED:20240221T142007Z
LAST-MODIFIED:20240221T142007Z
UID:51944-1686700800-1686787199@historic.pratsdellucanes.cat
SUMMARY:Reunió enllumenat públic
DESCRIPTION:
URL:https://historic.pratsdellucanes.cat/esdeveniment/reunio-enllumenat-public/
CATEGORIES:Agenda de l'alcalde
END:VEVENT
BEGIN:VEVENT
DTSTART;VALUE=DATE:20230614
DTEND;VALUE=DATE:20230615
DTSTAMP:20260421T162840
CREATED:20240221T142107Z
LAST-MODIFIED:20240221T142107Z
UID:51946-1686700800-1686787199@historic.pratsdellucanes.cat
SUMMARY:Tot es Mou Prats
DESCRIPTION:
URL:https://historic.pratsdellucanes.cat/esdeveniment/tot-es-mou-prats/
CATEGORIES:Agenda de l'alcalde
END:VEVENT
BEGIN:VEVENT
DTSTART;VALUE=DATE:20230614
DTEND;VALUE=DATE:20230615
DTSTAMP:20260421T162840
CREATED:20240221T142225Z
LAST-MODIFIED:20240221T142225Z
UID:51948-1686700800-1686787199@historic.pratsdellucanes.cat
SUMMARY:Junta de govern local
DESCRIPTION:
URL:https://historic.pratsdellucanes.cat/esdeveniment/junta-de-govern-local-27/
CATEGORIES:Agenda de l'alcalde
END:VEVENT
BEGIN:VEVENT
DTSTART;VALUE=DATE:20230614
DTEND;VALUE=DATE:20230615
DTSTAMP:20260421T162840
CREATED:20240221T142317Z
LAST-MODIFIED:20240221T142317Z
UID:51950-1686700800-1686787199@historic.pratsdellucanes.cat
SUMMARY:Ple municipal
DESCRIPTION:
URL:https://historic.pratsdellucanes.cat/esdeveniment/ple-municipal-27/
CATEGORIES:Agenda de l'alcalde
END:VEVENT
BEGIN:VEVENT
DTSTART;VALUE=DATE:20230614
DTEND;VALUE=DATE:20230615
DTSTAMP:20260421T162840
CREATED:20240221T142425Z
LAST-MODIFIED:20240221T142425Z
UID:51952-1686700800-1686787199@historic.pratsdellucanes.cat
SUMMARY:Reunió Torrenteres
DESCRIPTION:
URL:https://historic.pratsdellucanes.cat/esdeveniment/reunio-torrenteres-3/
CATEGORIES:Agenda de l'alcalde
END:VEVENT
BEGIN:VEVENT
DTSTART;VALUE=DATE:20230614
DTEND;VALUE=DATE:20230615
DTSTAMP:20260421T162840
CREATED:20240221T142749Z
LAST-MODIFIED:20240221T142749Z
UID:51957-1686700800-1686787199@historic.pratsdellucanes.cat
SUMMARY:Reunió Agència de Desenvolupament Rural
DESCRIPTION:
URL:https://historic.pratsdellucanes.cat/esdeveniment/reunio-agencia-de-desenvolupament-rural/
CATEGORIES:Agenda de l'alcalde
END:VEVENT
BEGIN:VEVENT
DTSTART;VALUE=DATE:20230615
DTEND;VALUE=DATE:20230616
DTSTAMP:20260421T162840
CREATED:20240222T080217Z
LAST-MODIFIED:20240222T080217Z
UID:51959-1686787200-1686873599@historic.pratsdellucanes.cat
SUMMARY:Reunió motos clàssiques
DESCRIPTION:
URL:https://historic.pratsdellucanes.cat/esdeveniment/reunio-motos-classiques/
CATEGORIES:Agenda de l'alcalde
END:VEVENT
BEGIN:VEVENT
DTSTART;VALUE=DATE:20230616
DTEND;VALUE=DATE:20230617
DTSTAMP:20260421T162840
CREATED:20240222T081227Z
LAST-MODIFIED:20240222T081227Z
UID:51961-1686873600-1686959999@historic.pratsdellucanes.cat
SUMMARY:Reunió Oficins Denúncies Mossos
DESCRIPTION:
URL:https://historic.pratsdellucanes.cat/esdeveniment/reunio-oficins-denuncies-mossos/
CATEGORIES:Agenda de l'alcalde
END:VEVENT
BEGIN:VEVENT
DTSTART;VALUE=DATE:20230616
DTEND;VALUE=DATE:20230617
DTSTAMP:20260421T162840
CREATED:20240222T081248Z
LAST-MODIFIED:20240222T081248Z
UID:51963-1686873600-1686959999@historic.pratsdellucanes.cat
SUMMARY:Reunió Bastoners
DESCRIPTION:
URL:https://historic.pratsdellucanes.cat/esdeveniment/reunio-bastoners-2/
CATEGORIES:Agenda de l'alcalde
END:VEVENT
BEGIN:VEVENT
DTSTART;VALUE=DATE:20230617
DTEND;VALUE=DATE:20230618
DTSTAMP:20260421T162840
CREATED:20240222T081311Z
LAST-MODIFIED:20240222T081311Z
UID:51965-1686960000-1687046399@historic.pratsdellucanes.cat
SUMMARY:Festa Bastonera
DESCRIPTION:
URL:https://historic.pratsdellucanes.cat/esdeveniment/festa-bastonera/
CATEGORIES:Agenda de l'alcalde
END:VEVENT
BEGIN:VEVENT
DTSTART;VALUE=DATE:20230619
DTEND;VALUE=DATE:20230620
DTSTAMP:20260421T162840
CREATED:20240222T081331Z
LAST-MODIFIED:20240222T081331Z
UID:51967-1687132800-1687219199@historic.pratsdellucanes.cat
SUMMARY:Consell escolar Institut
DESCRIPTION:
URL:https://historic.pratsdellucanes.cat/esdeveniment/consell-escolar-institut-2/
CATEGORIES:Agenda de l'alcalde
END:VEVENT
BEGIN:VEVENT
DTSTART;VALUE=DATE:20230620
DTEND;VALUE=DATE:20230621
DTSTAMP:20260421T162840
CREATED:20240222T081354Z
LAST-MODIFIED:20240222T081354Z
UID:51969-1687219200-1687305599@historic.pratsdellucanes.cat
SUMMARY:Reunió Diba
DESCRIPTION:
URL:https://historic.pratsdellucanes.cat/esdeveniment/reunio-diba/
CATEGORIES:Agenda de l'alcalde
END:VEVENT
BEGIN:VEVENT
DTSTART;VALUE=DATE:20230621
DTEND;VALUE=DATE:20230622
DTSTAMP:20260421T162840
CREATED:20240222T081419Z
LAST-MODIFIED:20240222T081419Z
UID:51971-1687305600-1687391999@historic.pratsdellucanes.cat
SUMMARY:Reunió Secretaria Intervenció
DESCRIPTION:
URL:https://historic.pratsdellucanes.cat/esdeveniment/reunio-secretaria-intervencio/
CATEGORIES:Agenda de l'alcalde
END:VEVENT
BEGIN:VEVENT
DTSTART;VALUE=DATE:20230621
DTEND;VALUE=DATE:20230622
DTSTAMP:20260421T162840
CREATED:20240222T081444Z
LAST-MODIFIED:20240222T081444Z
UID:51973-1687305600-1687391999@historic.pratsdellucanes.cat
SUMMARY:Fi de curs Escola Lluçanès
DESCRIPTION:
URL:https://historic.pratsdellucanes.cat/esdeveniment/fi-de-curs-escola-llucanes/
CATEGORIES:Agenda de l'alcalde
END:VEVENT
BEGIN:VEVENT
DTSTART;VALUE=DATE:20230621
DTEND;VALUE=DATE:20230622
DTSTAMP:20260421T162840
CREATED:20240222T092154Z
LAST-MODIFIED:20240222T092154Z
UID:51975-1687305600-1687391999@historic.pratsdellucanes.cat
SUMMARY:Reunió equip de govern
DESCRIPTION:
URL:https://historic.pratsdellucanes.cat/esdeveniment/reunio-equip-de-govern-418/
CATEGORIES:Agenda de l'alcalde
END:VEVENT
BEGIN:VEVENT
DTSTART;VALUE=DATE:20230622
DTEND;VALUE=DATE:20230623
DTSTAMP:20260421T162840
CREATED:20240222T092218Z
LAST-MODIFIED:20240222T092218Z
UID:51977-1687392000-1687478399@historic.pratsdellucanes.cat
SUMMARY:Reunió FUB Balmes
DESCRIPTION:
URL:https://historic.pratsdellucanes.cat/esdeveniment/reunio-fub-balmes/
CATEGORIES:Agenda de l'alcalde
END:VEVENT
BEGIN:VEVENT
DTSTART;VALUE=DATE:20230623
DTEND;VALUE=DATE:20230624
DTSTAMP:20260421T162840
CREATED:20240222T092243Z
LAST-MODIFIED:20240222T092243Z
UID:51979-1687478400-1687564799@historic.pratsdellucanes.cat
SUMMARY:Reunió veïns
DESCRIPTION:
URL:https://historic.pratsdellucanes.cat/esdeveniment/reunio-veins-2/
CATEGORIES:Agenda de l'alcalde
END:VEVENT
BEGIN:VEVENT
DTSTART;VALUE=DATE:20230624
DTEND;VALUE=DATE:20230626
DTSTAMP:20260421T162840
CREATED:20240222T092315Z
LAST-MODIFIED:20240222T092315Z
UID:51981-1687564800-1687737599@historic.pratsdellucanes.cat
SUMMARY:Festes de Sant Joan i els Elois
DESCRIPTION:
URL:https://historic.pratsdellucanes.cat/esdeveniment/festes-de-sant-joan-i-els-elois-6/
CATEGORIES:Agenda de l'alcalde
END:VEVENT
END:VCALENDAR