BEGIN:VCALENDAR
VERSION:2.0
PRODID:-//Ajuntament de Prats de Lluçanès - ECPv6.14.2//NONSGML v1.0//EN
CALSCALE:GREGORIAN
METHOD:PUBLISH
X-ORIGINAL-URL:https://historic.pratsdellucanes.cat
X-WR-CALDESC:Esdeveniments per Ajuntament de Prats de Lluçanès
REFRESH-INTERVAL;VALUE=DURATION:PT1H
X-Robots-Tag:noindex
X-PUBLISHED-TTL:PT1H
BEGIN:VTIMEZONE
TZID:Europe/Helsinki
BEGIN:DAYLIGHT
TZOFFSETFROM:+0200
TZOFFSETTO:+0300
TZNAME:EEST
DTSTART:20210328T010000
END:DAYLIGHT
BEGIN:STANDARD
TZOFFSETFROM:+0300
TZOFFSETTO:+0200
TZNAME:EET
DTSTART:20211031T010000
END:STANDARD
END:VTIMEZONE
BEGIN:VEVENT
DTSTART;TZID=Europe/Helsinki:20210412T150000
DTEND;TZID=Europe/Helsinki:20210412T170000
DTSTAMP:20260426T013102
CREATED:20210407T103036Z
LAST-MODIFIED:20210407T103036Z
UID:44191-1618239600-1618246800@historic.pratsdellucanes.cat
SUMMARY:Assemblea General de l’Associació pel Desenvolupament Rural de la Catalunya Central
DESCRIPTION:
URL:https://historic.pratsdellucanes.cat/esdeveniment/assemblea-general-de-lassociacio-pel-desenvolupament-rural-de-la-catalunya-central/
CATEGORIES:Agenda de l'alcalde
END:VEVENT
END:VCALENDAR