BEGIN:VCALENDAR
VERSION:2.0
PRODID:-//Ajuntament de Prats de Lluçanès - ECPv6.14.2//NONSGML v1.0//EN
CALSCALE:GREGORIAN
METHOD:PUBLISH
X-ORIGINAL-URL:https://historic.pratsdellucanes.cat
X-WR-CALDESC:Esdeveniments per Ajuntament de Prats de Lluçanès
REFRESH-INTERVAL;VALUE=DURATION:PT1H
X-Robots-Tag:noindex
X-PUBLISHED-TTL:PT1H
BEGIN:VTIMEZONE
TZID:Europe/Helsinki
BEGIN:DAYLIGHT
TZOFFSETFROM:+0200
TZOFFSETTO:+0300
TZNAME:EEST
DTSTART:20210328T010000
END:DAYLIGHT
BEGIN:STANDARD
TZOFFSETFROM:+0300
TZOFFSETTO:+0200
TZNAME:EET
DTSTART:20211031T010000
END:STANDARD
END:VTIMEZONE
BEGIN:VEVENT
DTSTART;TZID=Europe/Helsinki:20210724T100000
DTEND;TZID=Europe/Helsinki:20210724T120000
DTSTAMP:20260425T142420
CREATED:20210723T083811Z
LAST-MODIFIED:20210723T083811Z
UID:45179-1627120800-1627128000@historic.pratsdellucanes.cat
SUMMARY:Jornades tècniques fira de Sant Jaume
DESCRIPTION:
URL:https://historic.pratsdellucanes.cat/esdeveniment/jornades-tecniques-fira-de-sant-jaume/
CATEGORIES:Agenda de l'alcalde
END:VEVENT
END:VCALENDAR