BEGIN:VCALENDAR
VERSION:2.0
PRODID:-//Ajuntament de Prats de Lluçanès - ECPv6.14.2//NONSGML v1.0//EN
CALSCALE:GREGORIAN
METHOD:PUBLISH
X-ORIGINAL-URL:https://historic.pratsdellucanes.cat
X-WR-CALDESC:Esdeveniments per Ajuntament de Prats de Lluçanès
REFRESH-INTERVAL;VALUE=DURATION:PT1H
X-Robots-Tag:noindex
X-PUBLISHED-TTL:PT1H
BEGIN:VTIMEZONE
TZID:Europe/Helsinki
BEGIN:DAYLIGHT
TZOFFSETFROM:+0200
TZOFFSETTO:+0300
TZNAME:EEST
DTSTART:20220327T010000
END:DAYLIGHT
BEGIN:STANDARD
TZOFFSETFROM:+0300
TZOFFSETTO:+0200
TZNAME:EET
DTSTART:20221030T010000
END:STANDARD
END:VTIMEZONE
BEGIN:VEVENT
DTSTART;TZID=Europe/Helsinki:20220301T110000
DTEND;TZID=Europe/Helsinki:20220301T120000
DTSTAMP:20260424T203314
CREATED:20220311T075632Z
LAST-MODIFIED:20220311T075632Z
UID:46751-1646132400-1646136000@historic.pratsdellucanes.cat
SUMMARY:Reunió concurs gossos de guarda
DESCRIPTION:
URL:https://historic.pratsdellucanes.cat/esdeveniment/reunio-concurs-gossos-de-guarda/
CATEGORIES:Agenda de l'alcalde
END:VEVENT
END:VCALENDAR