BEGIN:VCALENDAR
VERSION:2.0
PRODID:-//Ajuntament de Prats de Lluçanès - ECPv6.14.2//NONSGML v1.0//EN
CALSCALE:GREGORIAN
METHOD:PUBLISH
X-WR-CALNAME:Ajuntament de Prats de Lluçanès
X-ORIGINAL-URL:https://historic.pratsdellucanes.cat
X-WR-CALDESC:Esdeveniments per Ajuntament de Prats de Lluçanès
REFRESH-INTERVAL;VALUE=DURATION:PT1H
X-Robots-Tag:noindex
X-PUBLISHED-TTL:PT1H
BEGIN:VTIMEZONE
TZID:Europe/Helsinki
BEGIN:DAYLIGHT
TZOFFSETFROM:+0200
TZOFFSETTO:+0300
TZNAME:EEST
DTSTART:20220327T010000
END:DAYLIGHT
BEGIN:STANDARD
TZOFFSETFROM:+0300
TZOFFSETTO:+0200
TZNAME:EET
DTSTART:20221030T010000
END:STANDARD
END:VTIMEZONE
BEGIN:VEVENT
DTSTART;TZID=Europe/Helsinki:20220515T093000
DTEND;TZID=Europe/Helsinki:20220515T113000
DTSTAMP:20260423T124302
CREATED:20220614T083021Z
LAST-MODIFIED:20220614T083021Z
UID:47564-1652607000-1652614200@historic.pratsdellucanes.cat
SUMMARY:Mercat CUEME cooperatives escolars
DESCRIPTION:
URL:https://historic.pratsdellucanes.cat/esdeveniment/mercat-cueme-cooperatives-escolars/
CATEGORIES:Agenda de l'alcalde
END:VEVENT
END:VCALENDAR