BEGIN:VCALENDAR
VERSION:2.0
PRODID:-//Ajuntament de Prats de Lluçanès - ECPv6.14.2//NONSGML v1.0//EN
CALSCALE:GREGORIAN
METHOD:PUBLISH
X-WR-CALNAME:Ajuntament de Prats de Lluçanès
X-ORIGINAL-URL:https://historic.pratsdellucanes.cat
X-WR-CALDESC:Esdeveniments per Ajuntament de Prats de Lluçanès
REFRESH-INTERVAL;VALUE=DURATION:PT1H
X-Robots-Tag:noindex
X-PUBLISHED-TTL:PT1H
BEGIN:VTIMEZONE
TZID:Europe/Helsinki
BEGIN:DAYLIGHT
TZOFFSETFROM:+0200
TZOFFSETTO:+0300
TZNAME:EEST
DTSTART:20220327T010000
END:DAYLIGHT
BEGIN:STANDARD
TZOFFSETFROM:+0300
TZOFFSETTO:+0200
TZNAME:EET
DTSTART:20221030T010000
END:STANDARD
END:VTIMEZONE
BEGIN:VEVENT
DTSTART;TZID=Europe/Helsinki:20220615T080000
DTEND;TZID=Europe/Helsinki:20220615T090000
DTSTAMP:20260423T071156
CREATED:20220614T083725Z
LAST-MODIFIED:20220614T083725Z
UID:47589-1655280000-1655283600@historic.pratsdellucanes.cat
SUMMARY:Mesa de negociació
DESCRIPTION:
URL:https://historic.pratsdellucanes.cat/esdeveniment/mesa-de-negociacio-2/
CATEGORIES:Agenda de l'alcalde
END:VEVENT
END:VCALENDAR