BEGIN:VCALENDAR
VERSION:2.0
PRODID:-//Ajuntament de Prats de Lluçanès - ECPv6.14.2//NONSGML v1.0//EN
CALSCALE:GREGORIAN
METHOD:PUBLISH
X-ORIGINAL-URL:https://historic.pratsdellucanes.cat
X-WR-CALDESC:Esdeveniments per Ajuntament de Prats de Lluçanès
REFRESH-INTERVAL;VALUE=DURATION:PT1H
X-Robots-Tag:noindex
X-PUBLISHED-TTL:PT1H
BEGIN:VTIMEZONE
TZID:Europe/Helsinki
BEGIN:DAYLIGHT
TZOFFSETFROM:+0200
TZOFFSETTO:+0300
TZNAME:EEST
DTSTART:20220327T010000
END:DAYLIGHT
BEGIN:STANDARD
TZOFFSETFROM:+0300
TZOFFSETTO:+0200
TZNAME:EET
DTSTART:20221030T010000
END:STANDARD
END:VTIMEZONE
BEGIN:VEVENT
DTSTART;TZID=Europe/Helsinki:20220623T080000
DTEND;TZID=Europe/Helsinki:20220626T170000
DTSTAMP:20260423T071423
CREATED:20220614T083911Z
LAST-MODIFIED:20220614T083911Z
UID:47593-1655971200-1656262800@historic.pratsdellucanes.cat
SUMMARY:Actes de les Festes de Sant Joan i els Elois
DESCRIPTION:
URL:https://historic.pratsdellucanes.cat/esdeveniment/actes-de-les-festes-de-sant-joan-i-els-elois/
CATEGORIES:Agenda de l'alcalde
END:VEVENT
END:VCALENDAR