BEGIN:VCALENDAR
VERSION:2.0
PRODID:-//Ajuntament de Prats de Lluçanès - ECPv6.14.2//NONSGML v1.0//EN
CALSCALE:GREGORIAN
METHOD:PUBLISH
X-ORIGINAL-URL:https://historic.pratsdellucanes.cat
X-WR-CALDESC:Esdeveniments per Ajuntament de Prats de Lluçanès
REFRESH-INTERVAL;VALUE=DURATION:PT1H
X-Robots-Tag:noindex
X-PUBLISHED-TTL:PT1H
BEGIN:VTIMEZONE
TZID:Europe/Helsinki
BEGIN:DAYLIGHT
TZOFFSETFROM:+0200
TZOFFSETTO:+0300
TZNAME:EEST
DTSTART:20220327T010000
END:DAYLIGHT
BEGIN:STANDARD
TZOFFSETFROM:+0300
TZOFFSETTO:+0200
TZNAME:EET
DTSTART:20221030T010000
END:STANDARD
END:VTIMEZONE
BEGIN:VEVENT
DTSTART;TZID=Europe/Helsinki:20220816T090000
DTEND;TZID=Europe/Helsinki:20220816T100000
DTSTAMP:20260423T021244
CREATED:20230104T105211Z
LAST-MODIFIED:20230104T105211Z
UID:48637-1660640400-1660644000@historic.pratsdellucanes.cat
SUMMARY:Reunió propietat
DESCRIPTION:
URL:https://historic.pratsdellucanes.cat/esdeveniment/reunio-propietat/
CATEGORIES:Agenda de l'alcalde
END:VEVENT
BEGIN:VEVENT
DTSTART;TZID=Europe/Helsinki:20220816T100000
DTEND;TZID=Europe/Helsinki:20220816T110000
DTSTAMP:20260423T021244
CREATED:20230104T105243Z
LAST-MODIFIED:20230104T105243Z
UID:48639-1660644000-1660647600@historic.pratsdellucanes.cat
SUMMARY:Reunió caldera pellet
DESCRIPTION:
URL:https://historic.pratsdellucanes.cat/esdeveniment/reunio-caldera-pellet/
CATEGORIES:Agenda de l'alcalde
END:VEVENT
BEGIN:VEVENT
DTSTART;TZID=Europe/Helsinki:20220816T120000
DTEND;TZID=Europe/Helsinki:20220816T140000
DTSTAMP:20260423T021244
CREATED:20230104T105327Z
LAST-MODIFIED:20230104T105327Z
UID:48641-1660651200-1660658400@historic.pratsdellucanes.cat
SUMMARY:Reunió equip de govern
DESCRIPTION:
URL:https://historic.pratsdellucanes.cat/esdeveniment/reunio-equip-de-govern-385/
CATEGORIES:Agenda de l'alcalde
END:VEVENT
END:VCALENDAR