BEGIN:VCALENDAR
VERSION:2.0
PRODID:-//Ajuntament de Prats de Lluçanès - ECPv6.14.2//NONSGML v1.0//EN
CALSCALE:GREGORIAN
METHOD:PUBLISH
X-ORIGINAL-URL:https://historic.pratsdellucanes.cat
X-WR-CALDESC:Esdeveniments per Ajuntament de Prats de Lluçanès
REFRESH-INTERVAL;VALUE=DURATION:PT1H
X-Robots-Tag:noindex
X-PUBLISHED-TTL:PT1H
BEGIN:VTIMEZONE
TZID:Europe/Helsinki
BEGIN:DAYLIGHT
TZOFFSETFROM:+0200
TZOFFSETTO:+0300
TZNAME:EEST
DTSTART:20220327T010000
END:DAYLIGHT
BEGIN:STANDARD
TZOFFSETFROM:+0300
TZOFFSETTO:+0200
TZNAME:EET
DTSTART:20221030T010000
END:STANDARD
END:VTIMEZONE
BEGIN:VEVENT
DTSTART;TZID=Europe/Helsinki:20220922T080000
DTEND;TZID=Europe/Helsinki:20220922T090000
DTSTAMP:20260422T190620
CREATED:20230109T104231Z
LAST-MODIFIED:20230109T104231Z
UID:48795-1663833600-1663837200@historic.pratsdellucanes.cat
SUMMARY:Reunió LEADER
DESCRIPTION:
URL:https://historic.pratsdellucanes.cat/esdeveniment/reunio-leader-3/
CATEGORIES:Agenda de l'alcalde
END:VEVENT
BEGIN:VEVENT
DTSTART;TZID=Europe/Helsinki:20220922T100000
DTEND;TZID=Europe/Helsinki:20220922T110000
DTSTAMP:20260422T190620
CREATED:20230109T105103Z
LAST-MODIFIED:20230109T105103Z
UID:48799-1663840800-1663844400@historic.pratsdellucanes.cat
SUMMARY:Reunió deixalleria municipal
DESCRIPTION:
URL:https://historic.pratsdellucanes.cat/esdeveniment/reunio-deixalleria-municipal/
CATEGORIES:Agenda de l'alcalde
END:VEVENT
BEGIN:VEVENT
DTSTART;TZID=Europe/Helsinki:20220922T110000
DTEND;TZID=Europe/Helsinki:20220922T120000
DTSTAMP:20260422T190620
CREATED:20230109T105338Z
LAST-MODIFIED:20230109T105338Z
UID:48801-1663844400-1663848000@historic.pratsdellucanes.cat
SUMMARY:Reunió Oriol Codina
DESCRIPTION:
URL:https://historic.pratsdellucanes.cat/esdeveniment/reunio-oriol-codina/
CATEGORIES:Agenda de l'alcalde
END:VEVENT
BEGIN:VEVENT
DTSTART;TZID=Europe/Helsinki:20220922T160000
DTEND;TZID=Europe/Helsinki:20220922T170000
DTSTAMP:20260422T190620
CREATED:20230109T105512Z
LAST-MODIFIED:20230109T105512Z
UID:48803-1663862400-1663866000@historic.pratsdellucanes.cat
SUMMARY:Reunió pacificació zona escolar i esportiva
DESCRIPTION:
URL:https://historic.pratsdellucanes.cat/esdeveniment/reunio-pacificacio-zona-escolar-i-esportiva/
CATEGORIES:Agenda de l'alcalde
END:VEVENT
END:VCALENDAR