BEGIN:VCALENDAR
VERSION:2.0
PRODID:-//Ajuntament de Prats de Lluçanès - ECPv6.14.2//NONSGML v1.0//EN
CALSCALE:GREGORIAN
METHOD:PUBLISH
X-ORIGINAL-URL:https://historic.pratsdellucanes.cat
X-WR-CALDESC:Esdeveniments per Ajuntament de Prats de Lluçanès
REFRESH-INTERVAL;VALUE=DURATION:PT1H
X-Robots-Tag:noindex
X-PUBLISHED-TTL:PT1H
BEGIN:VTIMEZONE
TZID:Europe/Helsinki
BEGIN:DAYLIGHT
TZOFFSETFROM:+0200
TZOFFSETTO:+0300
TZNAME:EEST
DTSTART:20220327T010000
END:DAYLIGHT
BEGIN:STANDARD
TZOFFSETFROM:+0300
TZOFFSETTO:+0200
TZNAME:EET
DTSTART:20221030T010000
END:STANDARD
END:VTIMEZONE
BEGIN:VEVENT
DTSTART;TZID=Europe/Helsinki:20221007T100000
DTEND;TZID=Europe/Helsinki:20221007T120000
DTSTAMP:20260422T174200
CREATED:20230116T154343Z
LAST-MODIFIED:20230116T154343Z
UID:48957-1665136800-1665144000@historic.pratsdellucanes.cat
SUMMARY:Inauguració biblioteca Vic
DESCRIPTION:
URL:https://historic.pratsdellucanes.cat/esdeveniment/inauguracio-biblioteca-vic/
CATEGORIES:Agenda de l'alcalde
END:VEVENT
BEGIN:VEVENT
DTSTART;TZID=Europe/Helsinki:20221007T200000
DTEND;TZID=Europe/Helsinki:20221007T210000
DTSTAMP:20260422T174200
CREATED:20230116T154309Z
LAST-MODIFIED:20230116T154309Z
UID:48955-1665172800-1665176400@historic.pratsdellucanes.cat
SUMMARY:Concert Mar Pujol
DESCRIPTION:
URL:https://historic.pratsdellucanes.cat/esdeveniment/concert-mar-pujol/
CATEGORIES:Agenda de l'alcalde
END:VEVENT
END:VCALENDAR