BEGIN:VCALENDAR
VERSION:2.0
PRODID:-//Ajuntament de Prats de Lluçanès - ECPv6.14.2//NONSGML v1.0//EN
CALSCALE:GREGORIAN
METHOD:PUBLISH
X-ORIGINAL-URL:https://historic.pratsdellucanes.cat
X-WR-CALDESC:Esdeveniments per Ajuntament de Prats de Lluçanès
REFRESH-INTERVAL;VALUE=DURATION:PT1H
X-Robots-Tag:noindex
X-PUBLISHED-TTL:PT1H
BEGIN:VTIMEZONE
TZID:Europe/Helsinki
BEGIN:DAYLIGHT
TZOFFSETFROM:+0200
TZOFFSETTO:+0300
TZNAME:EEST
DTSTART:20220327T010000
END:DAYLIGHT
BEGIN:STANDARD
TZOFFSETFROM:+0300
TZOFFSETTO:+0200
TZNAME:EET
DTSTART:20221030T010000
END:STANDARD
END:VTIMEZONE
BEGIN:VEVENT
DTSTART;VALUE=DATE:20221022
DTEND;VALUE=DATE:20221023
DTSTAMP:20260422T205757
CREATED:20230116T155358Z
LAST-MODIFIED:20230116T155358Z
UID:48989-1666396800-1666483199@historic.pratsdellucanes.cat
SUMMARY:Prova BTT Prats
DESCRIPTION:
URL:https://historic.pratsdellucanes.cat/esdeveniment/prova-btt-prats/
CATEGORIES:Agenda de l'alcalde
END:VEVENT
BEGIN:VEVENT
DTSTART;TZID=Europe/Helsinki:20221022T110000
DTEND;TZID=Europe/Helsinki:20221022T120000
DTSTAMP:20260422T205757
CREATED:20230116T155334Z
LAST-MODIFIED:20230116T155334Z
UID:48987-1666436400-1666440000@historic.pratsdellucanes.cat
SUMMARY:Presentació murals
DESCRIPTION:
URL:https://historic.pratsdellucanes.cat/esdeveniment/presentacio-murals/
CATEGORIES:Agenda de l'alcalde
END:VEVENT
END:VCALENDAR