BEGIN:VCALENDAR
VERSION:2.0
PRODID:-//Ajuntament de Prats de Lluçanès - ECPv6.14.2//NONSGML v1.0//EN
CALSCALE:GREGORIAN
METHOD:PUBLISH
X-WR-CALNAME:Ajuntament de Prats de Lluçanès
X-ORIGINAL-URL:https://historic.pratsdellucanes.cat
X-WR-CALDESC:Esdeveniments per Ajuntament de Prats de Lluçanès
REFRESH-INTERVAL;VALUE=DURATION:PT1H
X-Robots-Tag:noindex
X-PUBLISHED-TTL:PT1H
BEGIN:VTIMEZONE
TZID:Europe/Helsinki
BEGIN:DAYLIGHT
TZOFFSETFROM:+0200
TZOFFSETTO:+0300
TZNAME:EEST
DTSTART:20220327T010000
END:DAYLIGHT
BEGIN:STANDARD
TZOFFSETFROM:+0300
TZOFFSETTO:+0200
TZNAME:EET
DTSTART:20221030T010000
END:STANDARD
END:VTIMEZONE
BEGIN:VEVENT
DTSTART;TZID=Europe/Helsinki:20221025T090000
DTEND;TZID=Europe/Helsinki:20221025T100000
DTSTAMP:20260422T173939
CREATED:20230116T155428Z
LAST-MODIFIED:20230116T155428Z
UID:48991-1666688400-1666692000@historic.pratsdellucanes.cat
SUMMARY:Obres ETAP
DESCRIPTION:
URL:https://historic.pratsdellucanes.cat/esdeveniment/obres-etap/
CATEGORIES:Agenda de l'alcalde
END:VEVENT
BEGIN:VEVENT
DTSTART;TZID=Europe/Helsinki:20221025T100000
DTEND;TZID=Europe/Helsinki:20221025T110000
DTSTAMP:20260422T173939
CREATED:20230116T155457Z
LAST-MODIFIED:20230116T155457Z
UID:48993-1666692000-1666695600@historic.pratsdellucanes.cat
SUMMARY:Visita Escola FEDAC
DESCRIPTION:
URL:https://historic.pratsdellucanes.cat/esdeveniment/visita-escola-fedac/
CATEGORIES:Agenda de l'alcalde
END:VEVENT
BEGIN:VEVENT
DTSTART;TZID=Europe/Helsinki:20221025T110000
DTEND;TZID=Europe/Helsinki:20221025T120000
DTSTAMP:20260422T173939
CREATED:20230116T155522Z
LAST-MODIFIED:20230116T155522Z
UID:48995-1666695600-1666699200@historic.pratsdellucanes.cat
SUMMARY:Reunió cremes forestals
DESCRIPTION:
URL:https://historic.pratsdellucanes.cat/esdeveniment/reunio-cremes-forestals/
CATEGORIES:Agenda de l'alcalde
END:VEVENT
BEGIN:VEVENT
DTSTART;TZID=Europe/Helsinki:20221025T120000
DTEND;TZID=Europe/Helsinki:20221025T130000
DTSTAMP:20260422T173939
CREATED:20230116T155553Z
LAST-MODIFIED:20230116T155553Z
UID:48997-1666699200-1666702800@historic.pratsdellucanes.cat
SUMMARY:Reunió concessionari zona esportiva
DESCRIPTION:
URL:https://historic.pratsdellucanes.cat/esdeveniment/reunio-concessionari-zona-esportiva-3/
CATEGORIES:Agenda de l'alcalde
END:VEVENT
BEGIN:VEVENT
DTSTART;TZID=Europe/Helsinki:20221025T193000
DTEND;TZID=Europe/Helsinki:20221025T210000
DTSTAMP:20260422T173939
CREATED:20230116T155624Z
LAST-MODIFIED:20230116T155624Z
UID:48999-1666726200-1666731600@historic.pratsdellucanes.cat
SUMMARY:Ple municipal ordenances
DESCRIPTION:
URL:https://historic.pratsdellucanes.cat/esdeveniment/ple-municipal-ordenances/
CATEGORIES:Agenda de l'alcalde
END:VEVENT
END:VCALENDAR