BEGIN:VCALENDAR
VERSION:2.0
PRODID:-//Ajuntament de Prats de Lluçanès - ECPv6.14.2//NONSGML v1.0//EN
CALSCALE:GREGORIAN
METHOD:PUBLISH
X-ORIGINAL-URL:https://historic.pratsdellucanes.cat
X-WR-CALDESC:Esdeveniments per Ajuntament de Prats de Lluçanès
REFRESH-INTERVAL;VALUE=DURATION:PT1H
X-Robots-Tag:noindex
X-PUBLISHED-TTL:PT1H
BEGIN:VTIMEZONE
TZID:Europe/Helsinki
BEGIN:DAYLIGHT
TZOFFSETFROM:+0200
TZOFFSETTO:+0300
TZNAME:EEST
DTSTART:20230326T010000
END:DAYLIGHT
BEGIN:STANDARD
TZOFFSETFROM:+0300
TZOFFSETTO:+0200
TZNAME:EET
DTSTART:20231029T010000
END:STANDARD
END:VTIMEZONE
BEGIN:VEVENT
DTSTART;TZID=Europe/Helsinki:20230118T080000
DTEND;TZID=Europe/Helsinki:20230118T170000
DTSTAMP:20260422T114455
CREATED:20230109T121720Z
LAST-MODIFIED:20230109T121720Z
UID:48807-1674028800-1674061200@historic.pratsdellucanes.cat
SUMMARY:Ple municipal
DESCRIPTION:
URL:https://historic.pratsdellucanes.cat/esdeveniment/ple-municipal-16/
CATEGORIES:Agenda,Agenda de l'alcalde,Agenda política
END:VEVENT
BEGIN:VEVENT
DTSTART;TZID=Europe/Helsinki:20230118T120000
DTEND;TZID=Europe/Helsinki:20230118T130000
DTSTAMP:20260422T114455
CREATED:20230125T103911Z
LAST-MODIFIED:20230125T103911Z
UID:49071-1674043200-1674046800@historic.pratsdellucanes.cat
SUMMARY:Reunió arquitecte municipal - secretaria
DESCRIPTION:
URL:https://historic.pratsdellucanes.cat/esdeveniment/reunio-arquitecte-municipal-secretaria/
CATEGORIES:Agenda de l'alcalde
END:VEVENT
END:VCALENDAR